Workbook

Sheet Contribution Tracker
A1: Contribution ID | B1: Pay Period End Date | C1: Employee Name | D1: Agency / Department | E1: Location | F1: Annual Salary | G1: Pay Period Gross Pay | H1: Traditional TSP % | I1: Roth TSP % | J1: Total Employee TSP Contribution | K1: Agency Automatic 1% Contribution | L1: Agency Matching Contribution | M1: Total TSP Contribution | N1: Cumulative TSP Balance | O1: FERS Pension Service Credit | P1: Estimated Monthly FERS Pension | Q1: Contribution Rate | R1: Monthly Status
A2: FERS-2026-001 | B2: 46053 | C2: Michael Carter | D2: Department of Transportation | E2: Austin, TX | F2: 88500 | G2: =IF(OR(A2="",F2=""),"",IFERROR(F2/26,0)) | H2: 0.05 | I2: 0.01 | J2: =IF(A2="","",IFERROR(G2*(H2+I2),0)) | K2: =IF(A2="","",IFERROR(G2*'Dashboard'!$L$4,0)) | L2: =IF(A2="","",IFERROR(G2*VLOOKUP(H2+I2,'Dashboard'!$J$5:$K$9,2,TRUE),0)) | M2: =IF(A2="","",SUM(J2:L2)) | N2: =IF(A2="","",M2) | O2: =IF(OR(A2="",F2=""),"",IFERROR(G2/F2/26,0)) | P2: =IF(OR(A2="",F2="",O2=""),"",IFERROR((F2*O2*'Dashboard'!$J$2)/12,0)) | Q2: =IF(A2="","",IFERROR(J2/G2,0)) | R2: =IF(A2="","",IF(Q2>='Dashboard'!$J$3,"On Track","Review Contribution"))
A3: FERS-2026-002 | B3: 46081 | C3: Jennifer Brooks | D3: Department of Veterans Affairs | E3: Denver, CO | F3: 96800 | G3: =IF(OR(A3="",F3=""),"",IFERROR(F3/26,0)) | H3: 0.04 | I3: 0 | J3: =IF(A3="","",IFERROR(G3*(H3+I3),0)) | K3: =IF(A3="","",IFERROR(G3*'Dashboard'!$L$4,0)) | L3: =IF(A3="","",IFERROR(G3*VLOOKUP(H3+I3,'Dashboard'!$J$5:$K$9,2,TRUE),0)) | M3: =IF(A3="","",SUM(J3:L3)) | N3: =IF(A3="","",IFERROR(N2+M3,0)) | O3: =IF(OR(A3="",F3=""),"",IFERROR(G3/F3/26,0)) | P3: =IF(OR(A3="",F3="",O3=""),"",IFERROR((F3*O3*'Dashboard'!$J$2)/12,0)) | Q3: =IF(A3="","",IFERROR(J3/G3,0)) | R3: =IF(A3="","",IF(Q3>='Dashboard'!$J$3,"On Track","Review Contribution"))
A4: FERS-2026-003 | B4: 46112 | C4: James Wilson | D4: Department of Agriculture | E4: Columbus, OH | F4: 74500 | G4: =IF(OR(A4="",F4=""),"",IFERROR(F4/26,0)) | H4: 0.06 | I4: 0.02 | J4: =IF(A4="","",IFERROR(G4*(H4+I4),0)) | K4: =IF(A4="","",IFERROR(G4*'Dashboard'!$L$4,0)) | L4: =IF(A4="","",IFERROR(G4*VLOOKUP(H4+I4,'Dashboard'!$J$5:$K$9,2,TRUE),0)) | M4: =IF(A4="","",SUM(J4:L4)) | N4: =IF(A4="","",IFERROR(N3+M4,0)) | O4: =IF(OR(A4="",F4=""),"",IFERROR(G4/F4/26,0)) | P4: =IF(OR(A4="",F4="",O4=""),"",IFERROR((F4*O4*'Dashboard'!$J$2)/12,0)) | Q4: =IF(A4="","",IFERROR(J4/G4,0)) | R4: =IF(A4="","",IF(Q4>='Dashboard'!$J$3,"On Track","Review Contribution"))
A5: FERS-2026-004 | B5: 46142 | C5: Emily Martinez | D5: Department of Defense | E5: Phoenix, AZ | F5: 124000 | G5: =IF(OR(A5="",F5=""),"",IFERROR(F5/26,0)) | H5: 0.08 | I5: 0.04 | J5: =IF(A5="","",IFERROR(G5*(H5+I5),0)) | K5: =IF(A5="","",IFERROR(G5*'Dashboard'!$L$4,0)) | L5: =IF(A5="","",IFERROR(G5*VLOOKUP(H5+I5,'Dashboard'!$J$5:$K$9,2,TRUE),0)) | M5: =IF(A5="","",SUM(J5:L5)) | N5: =IF(A5="","",IFERROR(N4+M5,0)) | O5: =IF(OR(A5="",F5=""),"",IFERROR(G5/F5/26,0)) | P5: =IF(OR(A5="",F5="",O5=""),"",IFERROR((F5*O5*'Dashboard'!$J$2)/12,0)) | Q5: =IF(A5="","",IFERROR(J5/G5,0)) | R5: =IF(A5="","",IF(Q5>='Dashboard'!$J$3,"On Track","Review Contribution"))
A6: FERS-2026-005 | B6: 46173 | C6: David Thompson | D6: Department of Homeland Security | E6: Atlanta, GA | F6: 108500 | G6: =IF(OR(A6="",F6=""),"",IFERROR(F6/26,0)) | H6: 0.05 | I6: 0 | J6: =IF(A6="","",IFERROR(G6*(H6+I6),0)) | K6: =IF(A6="","",IFERROR(G6*'Dashboard'!$L$4,0)) | L6: =IF(A6="","",IFERROR(G6*VLOOKUP(H6+I6,'Dashboard'!$J$5:$K$9,2,TRUE),0)) | M6: =IF(A6="","",SUM(J6:L6)) | N6: =IF(A6="","",IFERROR(N5+M6,0)) | O6: =IF(OR(A6="",F6=""),"",IFERROR(G6/F6/26,0)) | P6: =IF(OR(A6="",F6="",O6=""),"",IFERROR((F6*O6*'Dashboard'!$J$2)/12,0)) | Q6: =IF(A6="","",IFERROR(J6/G6,0)) | R6: =IF(A6="","",IF(Q6>='Dashboard'!$J$3,"On Track","Review Contribution"))
A7: FERS-2026-006 | B7: 46203 | C7: Sarah Anderson | D7: Department of the Interior | E7: Seattle, WA | F7: 89500 | G7: =IF(OR(A7="",F7=""),"",IFERROR(F7/26,0)) | H7: 0.04 | I7: 0.02 | J7: =IF(A7="","",IFERROR(G7*(H7+I7),0)) | K7: =IF(A7="","",IFERROR(G7*'Dashboard'!$L$4,0)) | L7: =IF(A7="","",IFERROR(G7*VLOOKUP(H7+I7,'Dashboard'!$J$5:$K$9,2,TRUE),0)) | M7: =IF(A7="","",SUM(J7:L7)) | N7: =IF(A7="","",IFERROR(N6+M7,0)) | O7: =IF(OR(A7="",F7=""),"",IFERROR(G7/F7/26,0)) | P7: =IF(OR(A7="",F7="",O7=""),"",IFERROR((F7*O7*'Dashboard'!$J$2)/12,0)) | Q7: =IF(A7="","",IFERROR(J7/G7,0)) | R7: =IF(A7="","",IF(Q7>='Dashboard'!$J$3,"On Track","Review Contribution"))
A8: FERS-2026-007 | B8: 46234 | C8: Robert Taylor | D8: Department of Commerce | E8: Nashville, TN | F8: 82500 | G8: =IF(OR(A8="",F8=""),"",IFERROR(F8/26,0)) | H8: 0.07 | I8: 0 | J8: =IF(A8="","",IFERROR(G8*(H8+I8),0)) | K8: =IF(A8="","",IFERROR(G8*'Dashboard'!$L$4,0)) | L8: =IF(A8="","",IFERROR(G8*VLOOKUP(H8+I8,'Dashboard'!$J$5:$K$9,2,TRUE),0)) | M8: =IF(A8="","",SUM(J8:L8)) | N8: =IF(A8="","",IFERROR(N7+M8,0)) | O8: =IF(OR(A8="",F8=""),"",IFERROR(G8/F8/26,0)) | P8: =IF(OR(A8="",F8="",O8=""),"",IFERROR((F8*O8*'Dashboard'!$J$2)/12,0)) | Q8: =IF(A8="","",IFERROR(J8/G8,0)) | R8: =IF(A8="","",IF(Q8>='Dashboard'!$J$3,"On Track","Review Contribution"))
A9: FERS-2026-008 | B9: 46265 | C9: Ashley Moore | D9: Department of Education | E9: Charlotte, NC | F9: 68500 | G9: =IF(OR(A9="",F9=""),"",IFERROR(F9/26,0)) | H9: 0.03 | I9: 0.01 | J9: =IF(A9="","",IFERROR(G9*(H9+I9),0)) | K9: =IF(A9="","",IFERROR(G9*'Dashboard'!$L$4,0)) | L9: =IF(A9="","",IFERROR(G9*VLOOKUP(H9+I9,'Dashboard'!$J$5:$K$9,2,TRUE),0)) | M9: =IF(A9="","",SUM(J9:L9)) | N9: =IF(A9="","",IFERROR(N8+M9,0)) | O9: =IF(OR(A9="",F9=""),"",IFERROR(G9/F9/26,0)) | P9: =IF(OR(A9="",F9="",O9=""),"",IFERROR((F9*O9*'Dashboard'!$J$2)/12,0)) | Q9: =IF(A9="","",IFERROR(J9/G9,0)) | R9: =IF(A9="","",IF(Q9>='Dashboard'!$J$3,"On Track","Review Contribution"))
G10: =IF(OR(A10="",F10=""),"",IFERROR(F10/26,0)) | J10: =IF(A10="","",IFERROR(G10*(H10+I10),0)) | K10: =IF(A10="","",IFERROR(G10*'Dashboard'!$L$4,0)) | L10: =IF(A10="","",IFERROR(G10*VLOOKUP(H10+I10,'Dashboard'!$J$5:$K$9,2,TRUE),0)) | M10: =IF(A10="","",SUM(J10:L10)) | N10: =IF(A10="","",IFERROR(N9+M10,0)) | O10: =IF(OR(A10="",F10=""),"",IFERROR(G10/F10/26,0)) | P10: =IF(OR(A10="",F10="",O10=""),"",IFERROR((F10*O10*'Dashboard'!$J$2)/12,0)) | Q10: =IF(A10="","",IFERROR(J10/G10,0)) | R10: =IF(A10="","",IF(Q10>='Dashboard'!$J$3,"On Track","Review Contribution"))
G11: =IF(OR(A11="",F11=""),"",IFERROR(F11/26,0)) | J11: =IF(A11="","",IFERROR(G11*(H11+I11),0)) | K11: =IF(A11="","",IFERROR(G11*'Dashboard'!$L$4,0)) | L11: =IF(A11="","",IFERROR(G11*VLOOKUP(H11+I11,'Dashboard'!$J$5:$K$9,2,TRUE),0)) | M11: =IF(A11="","",SUM(J11:L11)) | N11: =IF(A11="","",IFERROR(N10+M11,0)) | O11: =IF(OR(A11="",F11=""),"",IFERROR(G11/F11/26,0)) | P11: =IF(OR(A11="",F11="",O11=""),"",IFERROR((F11*O11*'Dashboard'!$J$2)/12,0)) | Q11: =IF(A11="","",IFERROR(J11/G11,0)) | R11: =IF(A11="","",IF(Q11>='Dashboard'!$J$3,"On Track","Review Contribution"))
G12: =IF(OR(A12="",F12=""),"",IFERROR(F12/26,0)) | J12: =IF(A12="","",IFERROR(G12*(H12+I12),0)) | K12: =IF(A12="","",IFERROR(G12*'Dashboard'!$L$4,0)) | L12: =IF(A12="","",IFERROR(G12*VLOOKUP(H12+I12,'Dashboard'!$J$5:$K$9,2,TRUE),0)) | M12: =IF(A12="","",SUM(J12:L12)) | N12: =IF(A12="","",IFERROR(N11+M12,0)) | O12: =IF(OR(A12="",F12=""),"",IFERROR(G12/F12/26,0)) | P12: =IF(OR(A12="",F12="",O12=""),"",IFERROR((F12*O12*'Dashboard'!$J$2)/12,0)) | Q12: =IF(A12="","",IFERROR(J12/G12,0)) | R12: =IF(A12="","",IF(Q12>='Dashboard'!$J$3,"On Track","Review Contribution"))
G13: =IF(OR(A13="",F13=""),"",IFERROR(F13/26,0)) | J13: =IF(A13="","",IFERROR(G13*(H13+I13),0)) | K13: =IF(A13="","",IFERROR(G13*'Dashboard'!$L$4,0)) | L13: =IF(A13="","",IFERROR(G13*VLOOKUP(H13+I13,'Dashboard'!$J$5:$K$9,2,TRUE),0)) | M13: =IF(A13="","",SUM(J13:L13)) | N13: =IF(A13="","",IFERROR(N12+M13,0)) | O13: =IF(OR(A13="",F13=""),"",IFERROR(G13/F13/26,0)) | P13: =IF(OR(A13="",F13="",O13=""),"",IFERROR((F13*O13*'Dashboard'!$J$2)/12,0)) | Q13: =IF(A13="","",IFERROR(J13/G13,0)) | R13: =IF(A13="","",IF(Q13>='Dashboard'!$J$3,"On Track","Review Contribution"))
G14: =IF(OR(A14="",F14=""),"",IFERROR(F14/26,0)) | J14: =IF(A14="","",IFERROR(G14*(H14+I14),0)) | K14: =IF(A14="","",IFERROR(G14*'Dashboard'!$L$4,0)) | L14: =IF(A14="","",IFERROR(G14*VLOOKUP(H14+I14,'Dashboard'!$J$5:$K$9,2,TRUE),0)) | M14: =IF(A14="","",SUM(J14:L14)) | N14: =IF(A14="","",IFERROR(N13+M14,0)) | O14: =IF(OR(A14="",F14=""),"",IFERROR(G14/F14/26,0)) | P14: =IF(OR(A14="",F14="",O14=""),"",IFERROR((F14*O14*'Dashboard'!$J$2)/12,0)) | Q14: =IF(A14="","",IFERROR(J14/G14,0)) | R14: =IF(A14="","",IF(Q14>='Dashboard'!$J$3,"On Track","Review Contribution"))
G15: =IF(OR(A15="",F15=""),"",IFERROR(F15/26,0)) | J15: =IF(A15="","",IFERROR(G15*(H15+I15),0)) | K15: =IF(A15="","",IFERROR(G15*'Dashboard'!$L$4,0)) | L15: =IF(A15="","",IFERROR(G15*VLOOKUP(H15+I15,'Dashboard'!$J$5:$K$9,2,TRUE),0)) | M15: =IF(A15="","",SUM(J15:L15)) | N15: =IF(A15="","",IFERROR(N14+M15,0)) | O15: =IF(OR(A15="",F15=""),"",IFERROR(G15/F15/26,0)) | P15: =IF(OR(A15="",F15="",O15=""),"",IFERROR((F15*O15*'Dashboard'!$J$2)/12,0)) | Q15: =IF(A15="","",IFERROR(J15/G15,0)) | R15: =IF(A15="","",IF(Q15>='Dashboard'!$J$3,"On Track","Review Contribution"))
G16: =IF(OR(A16="",F16=""),"",IFERROR(F16/26,0)) | J16: =IF(A16="","",IFERROR(G16*(H16+I16),0)) | K16: =IF(A16="","",IFERROR(G16*'Dashboard'!$L$4,0)) | L16: =IF(A16="","",IFERROR(G16*VLOOKUP(H16+I16,'Dashboard'!$J$5:$K$9,2,TRUE),0)) | M16: =IF(A16="","",SUM(J16:L16)) | N16: =IF(A16="","",IFERROR(N15+M16,0)) | O16: =IF(OR(A16="",F16=""),"",IFERROR(G16/F16/26,0)) | P16: =IF(OR(A16="",F16="",O16=""),"",IFERROR((F16*O16*'Dashboard'!$J$2)/12,0)) | Q16: =IF(A16="","",IFERROR(J16/G16,0)) | R16: =IF(A16="","",IF(Q16>='Dashboard'!$J$3,"On Track","Review Contribution"))
G17: =IF(OR(A17="",F17=""),"",IFERROR(F17/26,0)) | J17: =IF(A17="","",IFERROR(G17*(H17+I17),0)) | K17: =IF(A17="","",IFERROR(G17*'Dashboard'!$L$4,0)) | L17: =IF(A17="","",IFERROR(G17*VLOOKUP(H17+I17,'Dashboard'!$J$5:$K$9,2,TRUE),0)) | M17: =IF(A17="","",SUM(J17:L17)) | N17: =IF(A17="","",IFERROR(N16+M17,0)) | O17: =IF(OR(A17="",F17=""),"",IFERROR(G17/F17/26,0)) | P17: =IF(OR(A17="",F17="",O17=""),"",IFERROR((F17*O17*'Dashboard'!$J$2)/12,0)) | Q17: =IF(A17="","",IFERROR(J17/G17,0)) | R17: =IF(A17="","",IF(Q17>='Dashboard'!$J$3,"On Track","Review Contribution"))
G18: =IF(OR(A18="",F18=""),"",IFERROR(F18/26,0)) | J18: =IF(A18="","",IFERROR(G18*(H18+I18),0)) | K18: =IF(A18="","",IFERROR(G18*'Dashboard'!$L$4,0)) | L18: =IF(A18="","",IFERROR(G18*VLOOKUP(H18+I18,'Dashboard'!$J$5:$K$9,2,TRUE),0)) | M18: =IF(A18="","",SUM(J18:L18)) | N18: =IF(A18="","",IFERROR(N17+M18,0)) | O18: =IF(OR(A18="",F18=""),"",IFERROR(G18/F18/26,0)) | P18: =IF(OR(A18="",F18="",O18=""),"",IFERROR((F18*O18*'Dashboard'!$J$2)/12,0)) | Q18: =IF(A18="","",IFERROR(J18/G18,0)) | R18: =IF(A18="","",IF(Q18>='Dashboard'!$J$3,"On Track","Review Contribution"))
G19: =IF(OR(A19="",F19=""),"",IFERROR(F19/26,0)) | J19: =IF(A19="","",IFERROR(G19*(H19+I19),0)) | K19: =IF(A19="","",IFERROR(G19*'Dashboard'!$L$4,0)) | L19: =IF(A19="","",IFERROR(G19*VLOOKUP(H19+I19,'Dashboard'!$J$5:$K$9,2,TRUE),0)) | M19: =IF(A19="","",SUM(J19:L19)) | N19: =IF(A19="","",IFERROR(N18+M19,0)) | O19: =IF(OR(A19="",F19=""),"",IFERROR(G19/F19/26,0)) | P19: =IF(OR(A19="",F19="",O19=""),"",IFERROR((F19*O19*'Dashboard'!$J$2)/12,0)) | Q19: =IF(A19="","",IFERROR(J19/G19,0)) | R19: =IF(A19="","",IF(Q19>='Dashboard'!$J$3,"On Track","Review Contribution"))
G20: =IF(OR(A20="",F20=""),"",IFERROR(F20/26,0)) | J20: =IF(A20="","",IFERROR(G20*(H20+I20),0)) | K20: =IF(A20="","",IFERROR(G20*'Dashboard'!$L$4,0)) | L20: =IF(A20="","",IFERROR(G20*VLOOKUP(H20+I20,'Dashboard'!$J$5:$K$9,2,TRUE),0)) | M20: =IF(A20="","",SUM(J20:L20)) | N20: =IF(A20="","",IFERROR(N19+M20,0)) | O20: =IF(OR(A20="",F20=""),"",IFERROR(G20/F20/26,0)) | P20: =IF(OR(A20="",F20="",O20=""),"",IFERROR((F20*O20*'Dashboard'!$J$2)/12,0)) | Q20: =IF(A20="","",IFERROR(J20/G20,0)) | R20: =IF(A20="","",IF(Q20>='Dashboard'!$J$3,"On Track","Review Contribution"))
G21: =IF(OR(A21="",F21=""),"",IFERROR(F21/26,0)) | J21: =IF(A21="","",IFERROR(G21*(H21+I21),0)) | K21: =IF(A21="","",IFERROR(G21*'Dashboard'!$L$4,0)) | L21: =IF(A21="","",IFERROR(G21*VLOOKUP(H21+I21,'Dashboard'!$J$5:$K$9,2,TRUE),0)) | M21: =IF(A21="","",SUM(J21:L21)) | N21: =IF(A21="","",IFERROR(N20+M21,0)) | O21: =IF(OR(A21="",F21=""),"",IFERROR(G21/F21/26,0)) | P21: =IF(OR(A21="",F21="",O21=""),"",IFERROR((F21*O21*'Dashboard'!$J$2)/12,0)) | Q21: =IF(A21="","",IFERROR(J21/G21,0)) | R21: =IF(A21="","",IF(Q21>='Dashboard'!$J$3,"On Track","Review Contribution"))
... G101: =IF(OR(A101="",F101=""),"",IFERROR(F101/26,0)) | J101: =IF(A101="","",IFERROR(G101*(H101+I101),0)) | K101: =IF(A101="","",IFERROR(G101*'Dashboard'!$L$4,0)) | L101: =IF(A101="","",IFERROR(G101*VLOOKUP(H101+I101,'Dashboard'!$J$5:$K$9,2,TRUE),0)) | M101: =IF(A101="","",SUM(J101:L101)) | N101: =IF(A101="","",IFERROR(N100+M101,0)) | O101: =IF(OR(A101="",F101=""),"",IFERROR(G101/F101/26,0)) | P101: =IF(OR(A101="",F101="",O101=""),"",IFERROR((F101*O101*'Dashboard'!$J$2)/12,0)) | Q101: =IF(A101="","",IFERROR(J101/G101,0)) | R101: =IF(A101="","",IF(Q101>='Dashboard'!$J$3,"On Track","Review Contribution"))

Sheet Dashboard
A1: FERS Retirement Savings Dashboard | I1: Planning Assumptions | J1: Value
I2: FERS Pension Multiplier | J2: 0.01
A3: Retirement Readiness Summary | D3: Contribution Mix | I3: Target Employee Contribution Rate | J3: 0.05 | L3: Automatic Agency Contribution
A4: Total Employee Contributions | B4: =SUM('Contribution Tracker'!J2:J101) | D4: Contribution Type | E4: Amount | I4: TSP Matching Schedule | J4: Employee Contribution Rate | K4: Agency Match Rate | L4: 0.01
A5: Total Agency Contributions | B5: =SUM('Contribution Tracker'!K2:K101)+SUM('Contribution Tracker'!L2:L101) | D5: Employee TSP Contributions | E5: =SUM('Contribution Tracker'!J2:J101) | J5: 0 | K5: 0
A6: Total TSP Contributions | B6: =SUM('Contribution Tracker'!M2:M101) | D6: Agency Automatic Contributions | E6: =SUM('Contribution Tracker'!K2:K101) | J6: 0.01 | K6: 0.01
A7: Average Employee Contribution Rate | B7: =IFERROR(AVERAGE('Contribution Tracker'!Q2:Q101),0) | D7: Agency Matching Contributions | E7: =SUM('Contribution Tracker'!L2:L101) | J7: 0.02 | K7: 0.02
A8: Records Meeting Target | B8: =COUNTIF('Contribution Tracker'!R2:R101,"On Track") | J8: 0.03 | K8: 0.03
A9: On-Track Percentage | B9: =IFERROR(COUNTIF('Contribution Tracker'!R2:R101,"On Track")/COUNTA('Contribution Tracker'!A2:A101),0) | J9: 0.04 | K9: 0.04
A10: Latest Cumulative TSP Balance | B10: =IF(COUNTA('Contribution Tracker'!A2:A101)=0,0,IFERROR(INDEX('Contribution Tracker'!N2:N101,COUNTA('Contribution Tracker'!A2:A101)),0))
A11: Estimated Average Monthly FERS Pension | B11: =IFERROR(AVERAGE('Contribution Tracker'!P2:P101),0) | I11: Educational Planning Notice
I12: This tracker is an educational planning tool. Verify FERS pension eligibility, TSP rules, vesting, service credit, matching, contribution limits, and retirement calculations with your agency, OPM, and official TSP resources.
A42: Chart Source Data (Prepared Range)
A43: Pay Period End Date | B43: Employee TSP Contribution | C43: Agency Contributions
A44: =IF('Contribution Tracker'!$A$2="","",'Contribution Tracker'!$B$2) | B44: =IF('Contribution Tracker'!$A$2="","",'Contribution Tracker'!$J$2) | C44: =IF('Contribution Tracker'!$A$2="","",SUM('Contribution Tracker'!$K$2:'Contribution Tracker'!$L$2))
A45: =IF('Contribution Tracker'!$A$3="","",'Contribution Tracker'!$B$3) | B45: =IF('Contribution Tracker'!$A$3="","",'Contribution Tracker'!$J$3) | C45: =IF('Contribution Tracker'!$A$3="","",SUM('Contribution Tracker'!$K$3:'Contribution Tracker'!$L$3))
A46: =IF('Contribution Tracker'!$A$4="","",'Contribution Tracker'!$B$4) | B46: =IF('Contribution Tracker'!$A$4="","",'Contribution Tracker'!$J$4) | C46: =IF('Contribution Tracker'!$A$4="","",SUM('Contribution Tracker'!$K$4:'Contribution Tracker'!$L$4))
A47: =IF('Contribution Tracker'!$A$5="","",'Contribution Tracker'!$B$5) | B47: =IF('Contribution Tracker'!$A$5="","",'Contribution Tracker'!$J$5) | C47: =IF('Contribution Tracker'!$A$5="","",SUM('Contribution Tracker'!$K$5:'Contribution Tracker'!$L$5))
A48: =IF('Contribution Tracker'!$A$6="","",'Contribution Tracker'!$B$6) | B48: =IF('Contribution Tracker'!$A$6="","",'Contribution Tracker'!$J$6) | C48: =IF('Contribution Tracker'!$A$6="","",SUM('Contribution Tracker'!$K$6:'Contribution Tracker'!$L$6))
A49: =IF('Contribution Tracker'!$A$7="","",'Contribution Tracker'!$B$7) | B49: =IF('Contribution Tracker'!$A$7="","",'Contribution Tracker'!$J$7) | C49: =IF('Contribution Tracker'!$A$7="","",SUM('Contribution Tracker'!$K$7:'Contribution Tracker'!$L$7))
A50: =IF('Contribution Tracker'!$A$8="","",'Contribution Tracker'!$B$8) | B50: =IF('Contribution Tracker'!$A$8="","",'Contribution Tracker'!$J$8) | C50: =IF('Contribution Tracker'!$A$8="","",SUM('Contribution Tracker'!$K$8:'Contribution Tracker'!$L$8))
A51: =IF('Contribution Tracker'!$A$9="","",'Contribution Tracker'!$B$9) | B51: =IF('Contribution Tracker'!$A$9="","",'Contribution Tracker'!$J$9) | C51: =IF('Contribution Tracker'!$A$9="","",SUM('Contribution Tracker'!$K$9:'Contribution Tracker'!$L$9))
A52: =IF('Contribution Tracker'!$A$10="","",'Contribution Tracker'!$B$10) | B52: =IF('Contribution Tracker'!$A$10="","",'Contribution Tracker'!$J$10) | C52: =IF('Contribution Tracker'!$A$10="","",SUM('Contribution Tracker'!$K$10:'Contribution Tracker'!$L$10))
A53: =IF('Contribution Tracker'!$A$11="","",'Contribution Tracker'!$B$11) | B53: =IF('Contribution Tracker'!$A$11="","",'Contribution Tracker'!$J$11) | C53: =IF('Contribution Tracker'!$A$11="","",SUM('Contribution Tracker'!$K$11:'Contribution Tracker'!$L$11))
A54: =IF('Contribution Tracker'!$A$12="","",'Contribution Tracker'!$B$12) | B54: =IF('Contribution Tracker'!$A$12="","",'Contribution Tracker'!$J$12) | C54: =IF('Contribution Tracker'!$A$12="","",SUM('Contribution Tracker'!$K$12:'Contribution Tracker'!$L$12))
A55: =IF('Contribution Tracker'!$A$13="","",'Contribution Tracker'!$B$13) | B55: =IF('Contribution Tracker'!$A$13="","",'Contribution Tracker'!$J$13) | C55: =IF('Contribution Tracker'!$A$13="","",SUM('Contribution Tracker'!$K$13:'Contribution Tracker'!$L$13))
A56: =IF('Contribution Tracker'!$A$14="","",'Contribution Tracker'!$B$14) | B56: =IF('Contribution Tracker'!$A$14="","",'Contribution Tracker'!$J$14) | C56: =IF('Contribution Tracker'!$A$14="","",SUM('Contribution Tracker'!$K$14:'Contribution Tracker'!$L$14))
A57: =IF('Contribution Tracker'!$A$15="","",'Contribution Tracker'!$B$15) | B57: =IF('Contribution Tracker'!$A$15="","",'Contribution Tracker'!$J$15) | C57: =IF('Contribution Tracker'!$A$15="","",SUM('Contribution Tracker'!$K$15:'Contribution Tracker'!$L$15))
A58: =IF('Contribution Tracker'!$A$16="","",'Contribution Tracker'!$B$16) | B58: =IF('Contribution Tracker'!$A$16="","",'Contribution Tracker'!$J$16) | C58: =IF('Contribution Tracker'!$A$16="","",SUM('Contribution Tracker'!$K$16:'Contribution Tracker'!$L$16))
A59: =IF('Contribution Tracker'!$A$17="","",'Contribution Tracker'!$B$17) | B59: =IF('Contribution Tracker'!$A$17="","",'Contribution Tracker'!$J$17) | C59: =IF('Contribution Tracker'!$A$17="","",SUM('Contribution Tracker'!$K$17:'Contribution Tracker'!$L$17))
A60: =IF('Contribution Tracker'!$A$18="","",'Contribution Tracker'!$B$18) | B60: =IF('Contribution Tracker'!$A$18="","",'Contribution Tracker'!$J$18) | C60: =IF('Contribution Tracker'!$A$18="","",SUM('Contribution Tracker'!$K$18:'Contribution Tracker'!$L$18))
A61: =IF('Contribution Tracker'!$A$19="","",'Contribution Tracker'!$B$19) | B61: =IF('Contribution Tracker'!$A$19="","",'Contribution Tracker'!$J$19) | C61: =IF('Contribution Tracker'!$A$19="","",SUM('Contribution Tracker'!$K$19:'Contribution Tracker'!$L$19))
A62: =IF('Contribution Tracker'!$A$20="","",'Contribution Tracker'!$B$20) | B62: =IF('Contribution Tracker'!$A$20="","",'Contribution Tracker'!$J$20) | C62: =IF('Contribution Tracker'!$A$20="","",SUM('Contribution Tracker'!$K$20:'Contribution Tracker'!$L$20))
A63: =IF('Contribution Tracker'!$A$21="","",'Contribution Tracker'!$B$21) | B63: =IF('Contribution Tracker'!$A$21="","",'Contribution Tracker'!$J$21) | C63: =IF('Contribution Tracker'!$A$21="","",SUM('Contribution Tracker'!$K$21:'Contribution Tracker'!$L$21))
A64: =IF('Contribution Tracker'!$A$22="","",'Contribution Tracker'!$B$22) | B64: =IF('Contribution Tracker'!$A$22="","",'Contribution Tracker'!$J$22) | C64: =IF('Contribution Tracker'!$A$22="","",SUM('Contribution Tracker'!$K$22:'Contribution Tracker'!$L$22))
A65: =IF('Contribution Tracker'!$A$23="","",'Contribution Tracker'!$B$23) | B65: =IF('Contribution Tracker'!$A$23="","",'Contribution Tracker'!$J$23) | C65: =IF('Contribution Tracker'!$A$23="","",SUM('Contribution Tracker'!$K$23:'Contribution Tracker'!$L$23))
A66: =IF('Contribution Tracker'!$A$24="","",'Contribution Tracker'!$B$24) | B66: =IF('Contribution Tracker'!$A$24="","",'Contribution Tracker'!$J$24) | C66: =IF('Contribution Tracker'!$A$24="","",SUM('Contribution Tracker'!$K$24:'Contribution Tracker'!$L$24))
A67: =IF('Contribution Tracker'!$A$25="","",'Contribution Tracker'!$B$25) | B67: =IF('Contribution Tracker'!$A$25="","",'Contribution Tracker'!$J$25) | C67: =IF('Contribution Tracker'!$A$25="","",SUM('Contribution Tracker'!$K$25:'Contribution Tracker'!$L$25))
A68: =IF('Contribution Tracker'!$A$26="","",'Contribution Tracker'!$B$26) | B68: =IF('Contribution Tracker'!$A$26="","",'Contribution Tracker'!$J$26) | C68: =IF('Contribution Tracker'!$A$26="","",SUM('Contribution Tracker'!$K$26:'Contribution Tracker'!$L$26))
A69: =IF('Contribution Tracker'!$A$27="","",'Contribution Tracker'!$B$27) | B69: =IF('Contribution Tracker'!$A$27="","",'Contribution Tracker'!$J$27) | C69: =IF('Contribution Tracker'!$A$27="","",SUM('Contribution Tracker'!$K$27:'Contribution Tracker'!$L$27))
...

Sheet Instructions
A1: FERS Retirement Savings Tracker Instructions
A3: Topic | B3: Guidance
A4: Contribution Tracker | B4: Enter a new monthly pay-period record in the next available row or replace an existing record. Complete the pale-yellow input cells for the ID, date, employee, agency, location, annual salary, Traditional TSP percentage, and Roth TSP percentage.
A5: Traditional TSP and Roth TSP | B5: Traditional TSP contributions are generally made before federal income tax, while Roth TSP contributions are made after tax. Your total employee contribution rate is the combined Traditional TSP and Roth TSP percentage.
A6: Agency Contributions | B6: Agency automatic contributions are estimated using the editable automatic contribution assumption. Agency matching contributions are estimated using the editable matching schedule on the Dashboard based on the combined employee contribution rate.
A7: FERS Pension Estimate | B7: The estimated monthly FERS pension uses annual salary, service credit recorded for the pay period, and the editable FERS pension multiplier. It is a simplified planning estimate and is not an official retirement calculation.
A8: Updating Assumptions | B8: Update annual salary and contribution rates on the Contribution Tracker. Update the pension multiplier, target employee contribution rate, automatic agency contribution, and matching schedule in the pale-yellow Dashboard assumption cells.
A9: Readiness Status | B9: Monthly Status compares the calculated employee contribution rate with the Dashboard target rate. Green On Track records meet or exceed the target. Red Review Contribution records are below the target.
A10: Official Verification | B10: Federal retirement rules, contribution limits, agency matching, vesting, service credit, pension eligibility, and TSP provisions may change. Confirm current information through official OPM, TSP, and agency resources.
