Workbook

Sheet Debt Inputs
A1: Debt Avalanche Payoff Calculator - Debt Inputs
A2: Monthly Debt Budget | B2: 2000 | D2: Plan Start Date | E2: 46235 | G2: Monthly Interest Method | H2: APR / 12 | J2: Paid-Off Debt Count | K2: =COUNTIF($L$6:$L$105,"Paid Off")
A3: Extra Payment Available | B3: =MAX(0,$B$2-SUM($G$6:$G$105)) | D3: Total Starting Balance | E3: =SUM($F$6:$F$105) | G3: Total Minimum Payments | H3: =SUM($G$6:$G$105) | J3: Average APR | K3: =IFERROR(AVERAGE($E$6:$E$105),0)
A5: Debt ID | B5: Creditor | C5: Debt Type | D5: Account / Last Four | E5: APR | F5: Current Balance | G5: Minimum Payment | H5: Extra Monthly Payment Allocation | I5: Total Planned Payment | J5: Avalanche Priority | K5: Estimated Interest This Month | L5: Status | M5: Notes
A6: DC-001 | B6: Chase Freedom | C6: Credit Card | D6: Ending 4821 | E6: 0.2499 | F6: 4860.25 | G6: 145 | H6: =IF(OR(F6="",J6=""),"",IF(J6=1,$B$3,0)) | I6: =IF(G6="","",G6+H6) | J6: =IF(E6="","",RANK(E6,$E$6:$E$105,0)) | K6: =IF(OR(F6="",E6=""),"",IFERROR(F6*E6/12,0)) | L6: =IF(F6="","",IF(F6<=0,"Paid Off",IF(H6>0,"Extra Payment","Minimum Only"))) | M6: Michael Carter account
A7: DC-002 | B7: Capital One | C7: Credit Card | D7: Ending 7714 | E7: 0.2949 | F7: 2740.8 | G7: 95 | H7: =IF(OR(F7="",J7=""),"",IF(J7=1,$B$3,0)) | I7: =IF(G7="","",G7+H7) | J7: =IF(E7="","",RANK(E7,$E$6:$E$105,0)) | K7: =IF(OR(F7="",E7=""),"",IFERROR(F7*E7/12,0)) | L7: =IF(F7="","",IF(F7<=0,"Paid Off",IF(H7>0,"Extra Payment","Minimum Only"))) | M7: Jennifer Brooks account
A8: DC-003 | B8: Discover | C8: Credit Card | D8: Ending 1098 | E8: 0.2299 | F8: 6125.4 | G8: 185 | H8: =IF(OR(F8="",J8=""),"",IF(J8=1,$B$3,0)) | I8: =IF(G8="","",G8+H8) | J8: =IF(E8="","",RANK(E8,$E$6:$E$105,0)) | K8: =IF(OR(F8="",E8=""),"",IFERROR(F8*E8/12,0)) | L8: =IF(F8="","",IF(F8<=0,"Paid Off",IF(H8>0,"Extra Payment","Minimum Only"))) | M8: James Wilson account
A9: DC-004 | B9: Wells Fargo Personal Loan | C9: Personal Loan | D9: Ending 3345 | E9: 0.1175 | F9: 8950 | G9: 275 | H9: =IF(OR(F9="",J9=""),"",IF(J9=1,$B$3,0)) | I9: =IF(G9="","",G9+H9) | J9: =IF(E9="","",RANK(E9,$E$6:$E$105,0)) | K9: =IF(OR(F9="",E9=""),"",IFERROR(F9*E9/12,0)) | L9: =IF(F9="","",IF(F9<=0,"Paid Off",IF(H9>0,"Extra Payment","Minimum Only"))) | M9: Emily Davis account
A10: DC-005 | B10: Navy Federal Auto Loan | C10: Auto Loan | D10: Ending 6502 | E10: 0.0649 | F10: 14280.6 | G10: 410 | H10: =IF(OR(F10="",J10=""),"",IF(J10=1,$B$3,0)) | I10: =IF(G10="","",G10+H10) | J10: =IF(E10="","",RANK(E10,$E$6:$E$105,0)) | K10: =IF(OR(F10="",E10=""),"",IFERROR(F10*E10/12,0)) | L10: =IF(F10="","",IF(F10<=0,"Paid Off",IF(H10>0,"Extra Payment","Minimum Only"))) | M10: David Martinez account
A11: DC-006 | B11: Citi Card | C11: Credit Card | D11: Ending 9237 | E11: 0.2724 | F11: 1985.75 | G11: 70 | H11: =IF(OR(F11="",J11=""),"",IF(J11=1,$B$3,0)) | I11: =IF(G11="","",G11+H11) | J11: =IF(E11="","",RANK(E11,$E$6:$E$105,0)) | K11: =IF(OR(F11="",E11=""),"",IFERROR(F11*E11/12,0)) | L11: =IF(F11="","",IF(F11<=0,"Paid Off",IF(H11>0,"Extra Payment","Minimum Only"))) | M11: Sarah Thompson account
A12: DC-007 | B12: SoFi Student Loan | C12: Student Loan | D12: Ending 5619 | E12: 0.0725 | F12: 21450 | G12: 245 | H12: =IF(OR(F12="",J12=""),"",IF(J12=1,$B$3,0)) | I12: =IF(G12="","",G12+H12) | J12: =IF(E12="","",RANK(E12,$E$6:$E$105,0)) | K12: =IF(OR(F12="",E12=""),"",IFERROR(F12*E12/12,0)) | L12: =IF(F12="","",IF(F12<=0,"Paid Off",IF(H12>0,"Extra Payment","Minimum Only"))) | M12: Robert Anderson account
A13: DC-008 | B13: Synchrony Home Card | C13: Credit Card | D13: Ending 8076 | E13: 0.3199 | F13: 3320.1 | G13: 110 | H13: =IF(OR(F13="",J13=""),"",IF(J13=1,$B$3,0)) | I13: =IF(G13="","",G13+H13) | J13: =IF(E13="","",RANK(E13,$E$6:$E$105,0)) | K13: =IF(OR(F13="",E13=""),"",IFERROR(F13*E13/12,0)) | L13: =IF(F13="","",IF(F13<=0,"Paid Off",IF(H13>0,"Extra Payment","Minimum Only"))) | M13: Ashley Robinson account
A14: DC-009 | B14: Bank of America Card | C14: Credit Card | D14: Ending 2468 | E14: 0.1999 | F14: 5475.35 | G14: 165 | H14: =IF(OR(F14="",J14=""),"",IF(J14=1,$B$3,0)) | I14: =IF(G14="","",G14+H14) | J14: =IF(E14="","",RANK(E14,$E$6:$E$105,0)) | K14: =IF(OR(F14="",E14=""),"",IFERROR(F14*E14/12,0)) | L14: =IF(F14="","",IF(F14<=0,"Paid Off",IF(H14>0,"Extra Payment","Minimum Only"))) | M14: Christopher Lewis account
H15: =IF(OR(F15="",J15=""),"",IF(J15=1,$B$3,0)) | I15: =IF(G15="","",G15+H15) | J15: =IF(E15="","",RANK(E15,$E$6:$E$105,0)) | K15: =IF(OR(F15="",E15=""),"",IFERROR(F15*E15/12,0)) | L15: =IF(F15="","",IF(F15<=0,"Paid Off",IF(H15>0,"Extra Payment","Minimum Only")))
H16: =IF(OR(F16="",J16=""),"",IF(J16=1,$B$3,0)) | I16: =IF(G16="","",G16+H16) | J16: =IF(E16="","",RANK(E16,$E$6:$E$105,0)) | K16: =IF(OR(F16="",E16=""),"",IFERROR(F16*E16/12,0)) | L16: =IF(F16="","",IF(F16<=0,"Paid Off",IF(H16>0,"Extra Payment","Minimum Only")))
H17: =IF(OR(F17="",J17=""),"",IF(J17=1,$B$3,0)) | I17: =IF(G17="","",G17+H17) | J17: =IF(E17="","",RANK(E17,$E$6:$E$105,0)) | K17: =IF(OR(F17="",E17=""),"",IFERROR(F17*E17/12,0)) | L17: =IF(F17="","",IF(F17<=0,"Paid Off",IF(H17>0,"Extra Payment","Minimum Only")))
H18: =IF(OR(F18="",J18=""),"",IF(J18=1,$B$3,0)) | I18: =IF(G18="","",G18+H18) | J18: =IF(E18="","",RANK(E18,$E$6:$E$105,0)) | K18: =IF(OR(F18="",E18=""),"",IFERROR(F18*E18/12,0)) | L18: =IF(F18="","",IF(F18<=0,"Paid Off",IF(H18>0,"Extra Payment","Minimum Only")))
H19: =IF(OR(F19="",J19=""),"",IF(J19=1,$B$3,0)) | I19: =IF(G19="","",G19+H19) | J19: =IF(E19="","",RANK(E19,$E$6:$E$105,0)) | K19: =IF(OR(F19="",E19=""),"",IFERROR(F19*E19/12,0)) | L19: =IF(F19="","",IF(F19<=0,"Paid Off",IF(H19>0,"Extra Payment","Minimum Only")))
H20: =IF(OR(F20="",J20=""),"",IF(J20=1,$B$3,0)) | I20: =IF(G20="","",G20+H20) | J20: =IF(E20="","",RANK(E20,$E$6:$E$105,0)) | K20: =IF(OR(F20="",E20=""),"",IFERROR(F20*E20/12,0)) | L20: =IF(F20="","",IF(F20<=0,"Paid Off",IF(H20>0,"Extra Payment","Minimum Only")))
H21: =IF(OR(F21="",J21=""),"",IF(J21=1,$B$3,0)) | I21: =IF(G21="","",G21+H21) | J21: =IF(E21="","",RANK(E21,$E$6:$E$105,0)) | K21: =IF(OR(F21="",E21=""),"",IFERROR(F21*E21/12,0)) | L21: =IF(F21="","",IF(F21<=0,"Paid Off",IF(H21>0,"Extra Payment","Minimum Only")))
H22: =IF(OR(F22="",J22=""),"",IF(J22=1,$B$3,0)) | I22: =IF(G22="","",G22+H22) | J22: =IF(E22="","",RANK(E22,$E$6:$E$105,0)) | K22: =IF(OR(F22="",E22=""),"",IFERROR(F22*E22/12,0)) | L22: =IF(F22="","",IF(F22<=0,"Paid Off",IF(H22>0,"Extra Payment","Minimum Only")))
H23: =IF(OR(F23="",J23=""),"",IF(J23=1,$B$3,0)) | I23: =IF(G23="","",G23+H23) | J23: =IF(E23="","",RANK(E23,$E$6:$E$105,0)) | K23: =IF(OR(F23="",E23=""),"",IFERROR(F23*E23/12,0)) | L23: =IF(F23="","",IF(F23<=0,"Paid Off",IF(H23>0,"Extra Payment","Minimum Only")))
H24: =IF(OR(F24="",J24=""),"",IF(J24=1,$B$3,0)) | I24: =IF(G24="","",G24+H24) | J24: =IF(E24="","",RANK(E24,$E$6:$E$105,0)) | K24: =IF(OR(F24="",E24=""),"",IFERROR(F24*E24/12,0)) | L24: =IF(F24="","",IF(F24<=0,"Paid Off",IF(H24>0,"Extra Payment","Minimum Only")))
H25: =IF(OR(F25="",J25=""),"",IF(J25=1,$B$3,0)) | I25: =IF(G25="","",G25+H25) | J25: =IF(E25="","",RANK(E25,$E$6:$E$105,0)) | K25: =IF(OR(F25="",E25=""),"",IFERROR(F25*E25/12,0)) | L25: =IF(F25="","",IF(F25<=0,"Paid Off",IF(H25>0,"Extra Payment","Minimum Only")))
H26: =IF(OR(F26="",J26=""),"",IF(J26=1,$B$3,0)) | I26: =IF(G26="","",G26+H26) | J26: =IF(E26="","",RANK(E26,$E$6:$E$105,0)) | K26: =IF(OR(F26="",E26=""),"",IFERROR(F26*E26/12,0)) | L26: =IF(F26="","",IF(F26<=0,"Paid Off",IF(H26>0,"Extra Payment","Minimum Only")))
... H105: =IF(OR(F105="",J105=""),"",IF(J105=1,$B$3,0)) | I105: =IF(G105="","",G105+H105) | J105: =IF(E105="","",RANK(E105,$E$6:$E$105,0)) | K105: =IF(OR(F105="",E105=""),"",IFERROR(F105*E105/12,0)) | L105: =IF(F105="","",IF(F105<=0,"Paid Off",IF(H105>0,"Extra Payment","Minimum Only")))

Sheet Payoff Plan
A1: Debt Avalanche Payoff Plan - 60 Month Schedule
A2: Plan Start Date | B2: ='Debt Inputs'!$E$2 | D2: Monthly Debt Budget | E2: ='Debt Inputs'!$B$2
A5: Month | B5: Debt ID | C5: Creditor | D5: Beginning Balance | E5: APR | F5: Monthly Interest | G5: Required Minimum | H5: Extra Avalanche Payment | I5: Total Payment | J5: Principal Paid | K5: Ending Balance | L5: Current Avalanche Rank | M5: Active Target? | N5: Cumulative Interest | O5: Estimated Payoff Date
A6: =IF(B6="","",DATE(YEAR('Debt Inputs'!$E$2),MONTH('Debt Inputs'!$E$2)+0,1)) | B6: =IF('Debt Inputs'!A6="","",'Debt Inputs'!A6) | C6: =IF(B6="","",IFERROR(VLOOKUP(B6,'Debt Inputs'!$A$6:$M$105,2,FALSE),"")) | D6: =IF(B6="","",IFERROR(VLOOKUP(B6,'Debt Inputs'!$A$6:$M$105,6,FALSE),0)) | E6: =IF(B6="","",IFERROR(VLOOKUP(B6,'Debt Inputs'!$A$6:$M$105,5,FALSE),0)) | F6: =IF(D6="","",IFERROR(D6*E6/12,0)) | G6: =IF(D6="","",MIN(IFERROR(VLOOKUP(B6,'Debt Inputs'!$A$6:$M$105,7,FALSE),0),D6+F6)) | H6: =IF(D6="","",IF(L6=1,MAX(0,'Debt Inputs'!$B$2-SUM($G$6:$G$105)),0)) | I6: =IF(D6="","",MIN(D6+F6,G6+H6)) | J6: =IF(D6="","",MIN(D6,MAX(0,I6-F6))) | K6: =IF(D6="","",MAX(0,D6+F6-I6)) | L6: =IF(D6="","",IF(D6<=0,"",1+COUNTIFS($D$6:$D$105,">0",$E$6:$E$105,">"&E6))) | M6: =IF(D6="","",IF(AND(K6>0,L6=1),"Yes","No")) | N6: =IF(D6="","",F6) | O6: =IF(D6="","",IF(K6=0,C6,""))
A7: =IF(B7="","",DATE(YEAR('Debt Inputs'!$E$2),MONTH('Debt Inputs'!$E$2)+0,1)) | B7: =IF('Debt Inputs'!A7="","",'Debt Inputs'!A7) | C7: =IF(B7="","",IFERROR(VLOOKUP(B7,'Debt Inputs'!$A$6:$M$105,2,FALSE),"")) | D7: =IF(B7="","",IFERROR(VLOOKUP(B7,'Debt Inputs'!$A$6:$M$105,6,FALSE),0)) | E7: =IF(B7="","",IFERROR(VLOOKUP(B7,'Debt Inputs'!$A$6:$M$105,5,FALSE),0)) | F7: =IF(D7="","",IFERROR(D7*E7/12,0)) | G7: =IF(D7="","",MIN(IFERROR(VLOOKUP(B7,'Debt Inputs'!$A$6:$M$105,7,FALSE),0),D7+F7)) | H7: =IF(D7="","",IF(L7=1,MAX(0,'Debt Inputs'!$B$2-SUM($G$6:$G$105)),0)) | I7: =IF(D7="","",MIN(D7+F7,G7+H7)) | J7: =IF(D7="","",MIN(D7,MAX(0,I7-F7))) | K7: =IF(D7="","",MAX(0,D7+F7-I7)) | L7: =IF(D7="","",IF(D7<=0,"",1+COUNTIFS($D$6:$D$105,">0",$E$6:$E$105,">"&E7))) | M7: =IF(D7="","",IF(AND(K7>0,L7=1),"Yes","No")) | N7: =IF(D7="","",F7) | O7: =IF(D7="","",IF(K7=0,C7,""))
A8: =IF(B8="","",DATE(YEAR('Debt Inputs'!$E$2),MONTH('Debt Inputs'!$E$2)+0,1)) | B8: =IF('Debt Inputs'!A8="","",'Debt Inputs'!A8) | C8: =IF(B8="","",IFERROR(VLOOKUP(B8,'Debt Inputs'!$A$6:$M$105,2,FALSE),"")) | D8: =IF(B8="","",IFERROR(VLOOKUP(B8,'Debt Inputs'!$A$6:$M$105,6,FALSE),0)) | E8: =IF(B8="","",IFERROR(VLOOKUP(B8,'Debt Inputs'!$A$6:$M$105,5,FALSE),0)) | F8: =IF(D8="","",IFERROR(D8*E8/12,0)) | G8: =IF(D8="","",MIN(IFERROR(VLOOKUP(B8,'Debt Inputs'!$A$6:$M$105,7,FALSE),0),D8+F8)) | H8: =IF(D8="","",IF(L8=1,MAX(0,'Debt Inputs'!$B$2-SUM($G$6:$G$105)),0)) | I8: =IF(D8="","",MIN(D8+F8,G8+H8)) | J8: =IF(D8="","",MIN(D8,MAX(0,I8-F8))) | K8: =IF(D8="","",MAX(0,D8+F8-I8)) | L8: =IF(D8="","",IF(D8<=0,"",1+COUNTIFS($D$6:$D$105,">0",$E$6:$E$105,">"&E8))) | M8: =IF(D8="","",IF(AND(K8>0,L8=1),"Yes","No")) | N8: =IF(D8="","",F8) | O8: =IF(D8="","",IF(K8=0,C8,""))
A9: =IF(B9="","",DATE(YEAR('Debt Inputs'!$E$2),MONTH('Debt Inputs'!$E$2)+0,1)) | B9: =IF('Debt Inputs'!A9="","",'Debt Inputs'!A9) | C9: =IF(B9="","",IFERROR(VLOOKUP(B9,'Debt Inputs'!$A$6:$M$105,2,FALSE),"")) | D9: =IF(B9="","",IFERROR(VLOOKUP(B9,'Debt Inputs'!$A$6:$M$105,6,FALSE),0)) | E9: =IF(B9="","",IFERROR(VLOOKUP(B9,'Debt Inputs'!$A$6:$M$105,5,FALSE),0)) | F9: =IF(D9="","",IFERROR(D9*E9/12,0)) | G9: =IF(D9="","",MIN(IFERROR(VLOOKUP(B9,'Debt Inputs'!$A$6:$M$105,7,FALSE),0),D9+F9)) | H9: =IF(D9="","",IF(L9=1,MAX(0,'Debt Inputs'!$B$2-SUM($G$6:$G$105)),0)) | I9: =IF(D9="","",MIN(D9+F9,G9+H9)) | J9: =IF(D9="","",MIN(D9,MAX(0,I9-F9))) | K9: =IF(D9="","",MAX(0,D9+F9-I9)) | L9: =IF(D9="","",IF(D9<=0,"",1+COUNTIFS($D$6:$D$105,">0",$E$6:$E$105,">"&E9))) | M9: =IF(D9="","",IF(AND(K9>0,L9=1),"Yes","No")) | N9: =IF(D9="","",F9) | O9: =IF(D9="","",IF(K9=0,C9,""))
A10: =IF(B10="","",DATE(YEAR('Debt Inputs'!$E$2),MONTH('Debt Inputs'!$E$2)+0,1)) | B10: =IF('Debt Inputs'!A10="","",'Debt Inputs'!A10) | C10: =IF(B10="","",IFERROR(VLOOKUP(B10,'Debt Inputs'!$A$6:$M$105,2,FALSE),"")) | D10: =IF(B10="","",IFERROR(VLOOKUP(B10,'Debt Inputs'!$A$6:$M$105,6,FALSE),0)) | E10: =IF(B10="","",IFERROR(VLOOKUP(B10,'Debt Inputs'!$A$6:$M$105,5,FALSE),0)) | F10: =IF(D10="","",IFERROR(D10*E10/12,0)) | G10: =IF(D10="","",MIN(IFERROR(VLOOKUP(B10,'Debt Inputs'!$A$6:$M$105,7,FALSE),0),D10+F10)) | H10: =IF(D10="","",IF(L10=1,MAX(0,'Debt Inputs'!$B$2-SUM($G$6:$G$105)),0)) | I10: =IF(D10="","",MIN(D10+F10,G10+H10)) | J10: =IF(D10="","",MIN(D10,MAX(0,I10-F10))) | K10: =IF(D10="","",MAX(0,D10+F10-I10)) | L10: =IF(D10="","",IF(D10<=0,"",1+COUNTIFS($D$6:$D$105,">0",$E$6:$E$105,">"&E10))) | M10: =IF(D10="","",IF(AND(K10>0,L10=1),"Yes","No")) | N10: =IF(D10="","",F10) | O10: =IF(D10="","",IF(K10=0,C10,""))
A11: =IF(B11="","",DATE(YEAR('Debt Inputs'!$E$2),MONTH('Debt Inputs'!$E$2)+0,1)) | B11: =IF('Debt Inputs'!A11="","",'Debt Inputs'!A11) | C11: =IF(B11="","",IFERROR(VLOOKUP(B11,'Debt Inputs'!$A$6:$M$105,2,FALSE),"")) | D11: =IF(B11="","",IFERROR(VLOOKUP(B11,'Debt Inputs'!$A$6:$M$105,6,FALSE),0)) | E11: =IF(B11="","",IFERROR(VLOOKUP(B11,'Debt Inputs'!$A$6:$M$105,5,FALSE),0)) | F11: =IF(D11="","",IFERROR(D11*E11/12,0)) | G11: =IF(D11="","",MIN(IFERROR(VLOOKUP(B11,'Debt Inputs'!$A$6:$M$105,7,FALSE),0),D11+F11)) | H11: =IF(D11="","",IF(L11=1,MAX(0,'Debt Inputs'!$B$2-SUM($G$6:$G$105)),0)) | I11: =IF(D11="","",MIN(D11+F11,G11+H11)) | J11: =IF(D11="","",MIN(D11,MAX(0,I11-F11))) | K11: =IF(D11="","",MAX(0,D11+F11-I11)) | L11: =IF(D11="","",IF(D11<=0,"",1+COUNTIFS($D$6:$D$105,">0",$E$6:$E$105,">"&E11))) | M11: =IF(D11="","",IF(AND(K11>0,L11=1),"Yes","No")) | N11: =IF(D11="","",F11) | O11: =IF(D11="","",IF(K11=0,C11,""))
A12: =IF(B12="","",DATE(YEAR('Debt Inputs'!$E$2),MONTH('Debt Inputs'!$E$2)+0,1)) | B12: =IF('Debt Inputs'!A12="","",'Debt Inputs'!A12) | C12: =IF(B12="","",IFERROR(VLOOKUP(B12,'Debt Inputs'!$A$6:$M$105,2,FALSE),"")) | D12: =IF(B12="","",IFERROR(VLOOKUP(B12,'Debt Inputs'!$A$6:$M$105,6,FALSE),0)) | E12: =IF(B12="","",IFERROR(VLOOKUP(B12,'Debt Inputs'!$A$6:$M$105,5,FALSE),0)) | F12: =IF(D12="","",IFERROR(D12*E12/12,0)) | G12: =IF(D12="","",MIN(IFERROR(VLOOKUP(B12,'Debt Inputs'!$A$6:$M$105,7,FALSE),0),D12+F12)) | H12: =IF(D12="","",IF(L12=1,MAX(0,'Debt Inputs'!$B$2-SUM($G$6:$G$105)),0)) | I12: =IF(D12="","",MIN(D12+F12,G12+H12)) | J12: =IF(D12="","",MIN(D12,MAX(0,I12-F12))) | K12: =IF(D12="","",MAX(0,D12+F12-I12)) | L12: =IF(D12="","",IF(D12<=0,"",1+COUNTIFS($D$6:$D$105,">0",$E$6:$E$105,">"&E12))) | M12: =IF(D12="","",IF(AND(K12>0,L12=1),"Yes","No")) | N12: =IF(D12="","",F12) | O12: =IF(D12="","",IF(K12=0,C12,""))
A13: =IF(B13="","",DATE(YEAR('Debt Inputs'!$E$2),MONTH('Debt Inputs'!$E$2)+0,1)) | B13: =IF('Debt Inputs'!A13="","",'Debt Inputs'!A13) | C13: =IF(B13="","",IFERROR(VLOOKUP(B13,'Debt Inputs'!$A$6:$M$105,2,FALSE),"")) | D13: =IF(B13="","",IFERROR(VLOOKUP(B13,'Debt Inputs'!$A$6:$M$105,6,FALSE),0)) | E13: =IF(B13="","",IFERROR(VLOOKUP(B13,'Debt Inputs'!$A$6:$M$105,5,FALSE),0)) | F13: =IF(D13="","",IFERROR(D13*E13/12,0)) | G13: =IF(D13="","",MIN(IFERROR(VLOOKUP(B13,'Debt Inputs'!$A$6:$M$105,7,FALSE),0),D13+F13)) | H13: =IF(D13="","",IF(L13=1,MAX(0,'Debt Inputs'!$B$2-SUM($G$6:$G$105)),0)) | I13: =IF(D13="","",MIN(D13+F13,G13+H13)) | J13: =IF(D13="","",MIN(D13,MAX(0,I13-F13))) | K13: =IF(D13="","",MAX(0,D13+F13-I13)) | L13: =IF(D13="","",IF(D13<=0,"",1+COUNTIFS($D$6:$D$105,">0",$E$6:$E$105,">"&E13))) | M13: =IF(D13="","",IF(AND(K13>0,L13=1),"Yes","No")) | N13: =IF(D13="","",F13) | O13: =IF(D13="","",IF(K13=0,C13,""))
A14: =IF(B14="","",DATE(YEAR('Debt Inputs'!$E$2),MONTH('Debt Inputs'!$E$2)+0,1)) | B14: =IF('Debt Inputs'!A14="","",'Debt Inputs'!A14) | C14: =IF(B14="","",IFERROR(VLOOKUP(B14,'Debt Inputs'!$A$6:$M$105,2,FALSE),"")) | D14: =IF(B14="","",IFERROR(VLOOKUP(B14,'Debt Inputs'!$A$6:$M$105,6,FALSE),0)) | E14: =IF(B14="","",IFERROR(VLOOKUP(B14,'Debt Inputs'!$A$6:$M$105,5,FALSE),0)) | F14: =IF(D14="","",IFERROR(D14*E14/12,0)) | G14: =IF(D14="","",MIN(IFERROR(VLOOKUP(B14,'Debt Inputs'!$A$6:$M$105,7,FALSE),0),D14+F14)) | H14: =IF(D14="","",IF(L14=1,MAX(0,'Debt Inputs'!$B$2-SUM($G$6:$G$105)),0)) | I14: =IF(D14="","",MIN(D14+F14,G14+H14)) | J14: =IF(D14="","",MIN(D14,MAX(0,I14-F14))) | K14: =IF(D14="","",MAX(0,D14+F14-I14)) | L14: =IF(D14="","",IF(D14<=0,"",1+COUNTIFS($D$6:$D$105,">0",$E$6:$E$105,">"&E14))) | M14: =IF(D14="","",IF(AND(K14>0,L14=1),"Yes","No")) | N14: =IF(D14="","",F14) | O14: =IF(D14="","",IF(K14=0,C14,""))
A15: =IF(B15="","",DATE(YEAR('Debt Inputs'!$E$2),MONTH('Debt Inputs'!$E$2)+0,1)) | B15: =IF('Debt Inputs'!A15="","",'Debt Inputs'!A15) | C15: =IF(B15="","",IFERROR(VLOOKUP(B15,'Debt Inputs'!$A$6:$M$105,2,FALSE),"")) | D15: =IF(B15="","",IFERROR(VLOOKUP(B15,'Debt Inputs'!$A$6:$M$105,6,FALSE),0)) | E15: =IF(B15="","",IFERROR(VLOOKUP(B15,'Debt Inputs'!$A$6:$M$105,5,FALSE),0)) | F15: =IF(D15="","",IFERROR(D15*E15/12,0)) | G15: =IF(D15="","",MIN(IFERROR(VLOOKUP(B15,'Debt Inputs'!$A$6:$M$105,7,FALSE),0),D15+F15)) | H15: =IF(D15="","",IF(L15=1,MAX(0,'Debt Inputs'!$B$2-SUM($G$6:$G$105)),0)) | I15: =IF(D15="","",MIN(D15+F15,G15+H15)) | J15: =IF(D15="","",MIN(D15,MAX(0,I15-F15))) | K15: =IF(D15="","",MAX(0,D15+F15-I15)) | L15: =IF(D15="","",IF(D15<=0,"",1+COUNTIFS($D$6:$D$105,">0",$E$6:$E$105,">"&E15))) | M15: =IF(D15="","",IF(AND(K15>0,L15=1),"Yes","No")) | N15: =IF(D15="","",F15) | O15: =IF(D15="","",IF(K15=0,C15,""))
A16: =IF(B16="","",DATE(YEAR('Debt Inputs'!$E$2),MONTH('Debt Inputs'!$E$2)+0,1)) | B16: =IF('Debt Inputs'!A16="","",'Debt Inputs'!A16) | C16: =IF(B16="","",IFERROR(VLOOKUP(B16,'Debt Inputs'!$A$6:$M$105,2,FALSE),"")) | D16: =IF(B16="","",IFERROR(VLOOKUP(B16,'Debt Inputs'!$A$6:$M$105,6,FALSE),0)) | E16: =IF(B16="","",IFERROR(VLOOKUP(B16,'Debt Inputs'!$A$6:$M$105,5,FALSE),0)) | F16: =IF(D16="","",IFERROR(D16*E16/12,0)) | G16: =IF(D16="","",MIN(IFERROR(VLOOKUP(B16,'Debt Inputs'!$A$6:$M$105,7,FALSE),0),D16+F16)) | H16: =IF(D16="","",IF(L16=1,MAX(0,'Debt Inputs'!$B$2-SUM($G$6:$G$105)),0)) | I16: =IF(D16="","",MIN(D16+F16,G16+H16)) | J16: =IF(D16="","",MIN(D16,MAX(0,I16-F16))) | K16: =IF(D16="","",MAX(0,D16+F16-I16)) | L16: =IF(D16="","",IF(D16<=0,"",1+COUNTIFS($D$6:$D$105,">0",$E$6:$E$105,">"&E16))) | M16: =IF(D16="","",IF(AND(K16>0,L16=1),"Yes","No")) | N16: =IF(D16="","",F16) | O16: =IF(D16="","",IF(K16=0,C16,""))
A17: =IF(B17="","",DATE(YEAR('Debt Inputs'!$E$2),MONTH('Debt Inputs'!$E$2)+0,1)) | B17: =IF('Debt Inputs'!A17="","",'Debt Inputs'!A17) | C17: =IF(B17="","",IFERROR(VLOOKUP(B17,'Debt Inputs'!$A$6:$M$105,2,FALSE),"")) | D17: =IF(B17="","",IFERROR(VLOOKUP(B17,'Debt Inputs'!$A$6:$M$105,6,FALSE),0)) | E17: =IF(B17="","",IFERROR(VLOOKUP(B17,'Debt Inputs'!$A$6:$M$105,5,FALSE),0)) | F17: =IF(D17="","",IFERROR(D17*E17/12,0)) | G17: =IF(D17="","",MIN(IFERROR(VLOOKUP(B17,'Debt Inputs'!$A$6:$M$105,7,FALSE),0),D17+F17)) | H17: =IF(D17="","",IF(L17=1,MAX(0,'Debt Inputs'!$B$2-SUM($G$6:$G$105)),0)) | I17: =IF(D17="","",MIN(D17+F17,G17+H17)) | J17: =IF(D17="","",MIN(D17,MAX(0,I17-F17))) | K17: =IF(D17="","",MAX(0,D17+F17-I17)) | L17: =IF(D17="","",IF(D17<=0,"",1+COUNTIFS($D$6:$D$105,">0",$E$6:$E$105,">"&E17))) | M17: =IF(D17="","",IF(AND(K17>0,L17=1),"Yes","No")) | N17: =IF(D17="","",F17) | O17: =IF(D17="","",IF(K17=0,C17,""))
... A105: =IF(B105="","",DATE(YEAR('Debt Inputs'!$E$2),MONTH('Debt Inputs'!$E$2)+0,1)) | B105: =IF('Debt Inputs'!A105="","",'Debt Inputs'!A105) | C105: =IF(B105="","",IFERROR(VLOOKUP(B105,'Debt Inputs'!$A$6:$M$105,2,FALSE),"")) | D105: =IF(B105="","",IFERROR(VLOOKUP(B105,'Debt Inputs'!$A$6:$M$105,6,FALSE),0)) | E105: =IF(B105="","",IFERROR(VLOOKUP(B105,'Debt Inputs'!$A$6:$M$105,5,FALSE),0)) | F105: =IF(D105="","",IFERROR(D105*E105/12,0)) | G105: =IF(D105="","",MIN(IFERROR(VLOOKUP(B105,'Debt Inputs'!$A$6:$M$105,7,FALSE),0),D105+F105)) | H105: =IF(D105="","",IF(L105=1,MAX(0,'Debt Inputs'!$B$2-SUM($G$6:$G$105)),0)) | I105: =IF(D105="","",MIN(D105+F105,G105+H105)) | J105: =IF(D105="","",MIN(D105,MAX(0,I105-F105))) | K105: =IF(D105="","",MAX(0,D105+F105-I105)) | L105: =IF(D105="","",IF(D105<=0,"",1+COUNTIFS($D$6:$D$105,">0",$E$6:$E$105,">"&E105))) | M105: =IF(D105="","",IF(AND(K105>0,L105=1),"Yes","No")) | N105: =IF(D105="","",F105) | O105: =IF(D105="","",IF(K105=0,C105,""))
A106: =IF(B106="","",DATE(YEAR('Debt Inputs'!$E$2),MONTH('Debt Inputs'!$E$2)+1,1)) | B106: =IF('Debt Inputs'!A6="","",'Debt Inputs'!A6) | C106: =IF(B106="","",IFERROR(VLOOKUP(B106,'Debt Inputs'!$A$6:$M$105,2,FALSE),"")) | D106: =IF(B106="","",K6) | E106: =IF(B106="","",IFERROR(VLOOKUP(B106,'Debt Inputs'!$A$6:$M$105,5,FALSE),0)) | F106: =IF(D106="","",IFERROR(D106*E106/12,0)) | G106: =IF(D106="","",MIN(IFERROR(VLOOKUP(B106,'Debt Inputs'!$A$6:$M$105,7,FALSE),0),D106+F106)) | H106: =IF(D106="","",IF(L106=1,MAX(0,'Debt Inputs'!$B$2-SUM($G$106:$G$205)),0)) | I106: =IF(D106="","",MIN(D106+F106,G106+H106)) | J106: =IF(D106="","",MIN(D106,MAX(0,I106-F106))) | K106: =IF(D106="","",MAX(0,D106+F106-I106)) | L106: =IF(D106="","",IF(D106<=0,"",1+COUNTIFS($D$106:$D$205,">0",$E$106:$E$205,">"&E106))) | M106: =IF(D106="","",IF(AND(K106>0,L106=1),"Yes","No")) | N106: =IF(D106="","",N6+F106) | O106: =IF(D106="","",IF(AND(K106=0,K6>0),C106,""))
A107: =IF(B107="","",DATE(YEAR('Debt Inputs'!$E$2),MONTH('Debt Inputs'!$E$2)+1,1)) | B107: =IF('Debt Inputs'!A7="","",'Debt Inputs'!A7) | C107: =IF(B107="","",IFERROR(VLOOKUP(B107,'Debt Inputs'!$A$6:$M$105,2,FALSE),"")) | D107: =IF(B107="","",K7) | E107: =IF(B107="","",IFERROR(VLOOKUP(B107,'Debt Inputs'!$A$6:$M$105,5,FALSE),0)) | F107: =IF(D107="","",IFERROR(D107*E107/12,0)) | G107: =IF(D107="","",MIN(IFERROR(VLOOKUP(B107,'Debt Inputs'!$A$6:$M$105,7,FALSE),0),D107+F107)) | H107: =IF(D107="","",IF(L107=1,MAX(0,'Debt Inputs'!$B$2-SUM($G$106:$G$205)),0)) | I107: =IF(D107="","",MIN(D107+F107,G107+H107)) | J107: =IF(D107="","",MIN(D107,MAX(0,I107-F107))) | K107: =IF(D107="","",MAX(0,D107+F107-I107)) | L107: =IF(D107="","",IF(D107<=0,"",1+COUNTIFS($D$106:$D$205,">0",$E$106:$E$205,">"&E107))) | M107: =IF(D107="","",IF(AND(K107>0,L107=1),"Yes","No")) | N107: =IF(D107="","",N7+F107) | O107: =IF(D107="","",IF(AND(K107=0,K7>0),C107,""))
A108: =IF(B108="","",DATE(YEAR('Debt Inputs'!$E$2),MONTH('Debt Inputs'!$E$2)+1,1)) | B108: =IF('Debt Inputs'!A8="","",'Debt Inputs'!A8) | C108: =IF(B108="","",IFERROR(VLOOKUP(B108,'Debt Inputs'!$A$6:$M$105,2,FALSE),"")) | D108: =IF(B108="","",K8) | E108: =IF(B108="","",IFERROR(VLOOKUP(B108,'Debt Inputs'!$A$6:$M$105,5,FALSE),0)) | F108: =IF(D108="","",IFERROR(D108*E108/12,0)) | G108: =IF(D108="","",MIN(IFERROR(VLOOKUP(B108,'Debt Inputs'!$A$6:$M$105,7,FALSE),0),D108+F108)) | H108: =IF(D108="","",IF(L108=1,MAX(0,'Debt Inputs'!$B$2-SUM($G$106:$G$205)),0)) | I108: =IF(D108="","",MIN(D108+F108,G108+H108)) | J108: =IF(D108="","",MIN(D108,MAX(0,I108-F108))) | K108: =IF(D108="","",MAX(0,D108+F108-I108)) | L108: =IF(D108="","",IF(D108<=0,"",1+COUNTIFS($D$106:$D$205,">0",$E$106:$E$205,">"&E108))) | M108: =IF(D108="","",IF(AND(K108>0,L108=1),"Yes","No")) | N108: =IF(D108="","",N8+F108) | O108: =IF(D108="","",IF(AND(K108=0,K8>0),C108,""))
A109: =IF(B109="","",DATE(YEAR('Debt Inputs'!$E$2),MONTH('Debt Inputs'!$E$2)+1,1)) | B109: =IF('Debt Inputs'!A9="","",'Debt Inputs'!A9) | C109: =IF(B109="","",IFERROR(VLOOKUP(B109,'Debt Inputs'!$A$6:$M$105,2,FALSE),"")) | D109: =IF(B109="","",K9) | E109: =IF(B109="","",IFERROR(VLOOKUP(B109,'Debt Inputs'!$A$6:$M$105,5,FALSE),0)) | F109: =IF(D109="","",IFERROR(D109*E109/12,0)) | G109: =IF(D109="","",MIN(IFERROR(VLOOKUP(B109,'Debt Inputs'!$A$6:$M$105,7,FALSE),0),D109+F109)) | H109: =IF(D109="","",IF(L109=1,MAX(0,'Debt Inputs'!$B$2-SUM($G$106:$G$205)),0)) | I109: =IF(D109="","",MIN(D109+F109,G109+H109)) | J109: =IF(D109="","",MIN(D109,MAX(0,I109-F109))) | K109: =IF(D109="","",MAX(0,D109+F109-I109)) | L109: =IF(D109="","",IF(D109<=0,"",1+COUNTIFS($D$106:$D$205,">0",$E$106:$E$205,">"&E109))) | M109: =IF(D109="","",IF(AND(K109>0,L109=1),"Yes","No")) | N109: =IF(D109="","",N9+F109) | O109: =IF(D109="","",IF(AND(K109=0,K9>0),C109,""))
A110: =IF(B110="","",DATE(YEAR('Debt Inputs'!$E$2),MONTH('Debt Inputs'!$E$2)+1,1)) | B110: =IF('Debt Inputs'!A10="","",'Debt Inputs'!A10) | C110: =IF(B110="","",IFERROR(VLOOKUP(B110,'Debt Inputs'!$A$6:$M$105,2,FALSE),"")) | D110: =IF(B110="","",K10) | E110: =IF(B110="","",IFERROR(VLOOKUP(B110,'Debt Inputs'!$A$6:$M$105,5,FALSE),0)) | F110: =IF(D110="","",IFERROR(D110*E110/12,0)) | G110: =IF(D110="","",MIN(IFERROR(VLOOKUP(B110,'Debt Inputs'!$A$6:$M$105,7,FALSE),0),D110+F110)) | H110: =IF(D110="","",IF(L110=1,MAX(0,'Debt Inputs'!$B$2-SUM($G$106:$G$205)),0)) | I110: =IF(D110="","",MIN(D110+F110,G110+H110)) | J110: =IF(D110="","",MIN(D110,MAX(0,I110-F110))) | K110: =IF(D110="","",MAX(0,D110+F110-I110)) | L110: =IF(D110="","",IF(D110<=0,"",1+COUNTIFS($D$106:$D$205,">0",$E$106:$E$205,">"&E110))) | M110: =IF(D110="","",IF(AND(K110>0,L110=1),"Yes","No")) | N110: =IF(D110="","",N10+F110) | O110: =IF(D110="","",IF(AND(K110=0,K10>0),C110,""))
A111: =IF(B111="","",DATE(YEAR('Debt Inputs'!$E$2),MONTH('Debt Inputs'!$E$2)+1,1)) | B111: =IF('Debt Inputs'!A11="","",'Debt Inputs'!A11) | C111: =IF(B111="","",IFERROR(VLOOKUP(B111,'Debt Inputs'!$A$6:$M$105,2,FALSE),"")) | D111: =IF(B111="","",K11) | E111: =IF(B111="","",IFERROR(VLOOKUP(B111,'Debt Inputs'!$A$6:$M$105,5,FALSE),0)) | F111: =IF(D111="","",IFERROR(D111*E111/12,0)) | G111: =IF(D111="","",MIN(IFERROR(VLOOKUP(B111,'Debt Inputs'!$A$6:$M$105,7,FALSE),0),D111+F111)) | H111: =IF(D111="","",IF(L111=1,MAX(0,'Debt Inputs'!$B$2-SUM($G$106:$G$205)),0)) | I111: =IF(D111="","",MIN(D111+F111,G111+H111)) | J111: =IF(D111="","",MIN(D111,MAX(0,I111-F111))) | K111: =IF(D111="","",MAX(0,D111+F111-I111)) | L111: =IF(D111="","",IF(D111<=0,"",1+COUNTIFS($D$106:$D$205,">0",$E$106:$E$205,">"&E111))) | M111: =IF(D111="","",IF(AND(K111>0,L111=1),"Yes","No")) | N111: =IF(D111="","",N11+F111) | O111: =IF(D111="","",IF(AND(K111=0,K11>0),C111,""))
A112: =IF(B112="","",DATE(YEAR('Debt Inputs'!$E$2),MONTH('Debt Inputs'!$E$2)+1,1)) | B112: =IF('Debt Inputs'!A12="","",'Debt Inputs'!A12) | C112: =IF(B112="","",IFERROR(VLOOKUP(B112,'Debt Inputs'!$A$6:$M$105,2,FALSE),"")) | D112: =IF(B112="","",K12) | E112: =IF(B112="","",IFERROR(VLOOKUP(B112,'Debt Inputs'!$A$6:$M$105,5,FALSE),0)) | F112: =IF(D112="","",IFERROR(D112*E112/12,0)) | G112: =IF(D112="","",MIN(IFERROR(VLOOKUP(B112,'Debt Inputs'!$A$6:$M$105,7,FALSE),0),D112+F112)) | H112: =IF(D112="","",IF(L112=1,MAX(0,'Debt Inputs'!$B$2-SUM($G$106:$G$205)),0)) | I112: =IF(D112="","",MIN(D112+F112,G112+H112)) | J112: =IF(D112="","",MIN(D112,MAX(0,I112-F112))) | K112: =IF(D112="","",MAX(0,D112+F112-I112)) | L112: =IF(D112="","",IF(D112<=0,"",1+COUNTIFS($D$106:$D$205,">0",$E$106:$E$205,">"&E112))) | M112: =IF(D112="","",IF(AND(K112>0,L112=1),"Yes","No")) | N112: =IF(D112="","",N12+F112) | O112: =IF(D112="","",IF(AND(K112=0,K12>0),C112,""))
A113: =IF(B113="","",DATE(YEAR('Debt Inputs'!$E$2),MONTH('Debt Inputs'!$E$2)+1,1)) | B113: =IF('Debt Inputs'!A13="","",'Debt Inputs'!A13) | C113: =IF(B113="","",IFERROR(VLOOKUP(B113,'Debt Inputs'!$A$6:$M$105,2,FALSE),"")) | D113: =IF(B113="","",K13) | E113: =IF(B113="","",IFERROR(VLOOKUP(B113,'Debt Inputs'!$A$6:$M$105,5,FALSE),0)) | F113: =IF(D113="","",IFERROR(D113*E113/12,0)) | G113: =IF(D113="","",MIN(IFERROR(VLOOKUP(B113,'Debt Inputs'!$A$6:$M$105,7,FALSE),0),D113+F113)) | H113: =IF(D113="","",IF(L113=1,MAX(0,'Debt Inputs'!$B$2-SUM($G$106:$G$205)),0)) | I113: =IF(D113="","",MIN(D113+F113,G113+H113)) | J113: =IF(D113="","",MIN(D113,MAX(0,I113-F113))) | K113: =IF(D113="","",MAX(0,D113+F113-I113)) | L113: =IF(D113="","",IF(D113<=0,"",1+COUNTIFS($D$106:$D$205,">0",$E$106:$E$205,">"&E113))) | M113: =IF(D113="","",IF(AND(K113>0,L113=1),"Yes","No")) | N113: =IF(D113="","",N13+F113) | O113: =IF(D113="","",IF(AND(K113=0,K13>0),C113,""))
A114: =IF(B114="","",DATE(YEAR('Debt Inputs'!$E$2),MONTH('Debt Inputs'!$E$2)+1,1)) | B114: =IF('Debt Inputs'!A14="","",'Debt Inputs'!A14) | C114: =IF(B114="","",IFERROR(VLOOKUP(B114,'Debt Inputs'!$A$6:$M$105,2,FALSE),"")) | D114: =IF(B114="","",K14) | E114: =IF(B114="","",IFERROR(VLOOKUP(B114,'Debt Inputs'!$A$6:$M$105,5,FALSE),0)) | F114: =IF(D114="","",IFERROR(D114*E114/12,0)) | G114: =IF(D114="","",MIN(IFERROR(VLOOKUP(B114,'Debt Inputs'!$A$6:$M$105,7,FALSE),0),D114+F114)) | H114: =IF(D114="","",IF(L114=1,MAX(0,'Debt Inputs'!$B$2-SUM($G$106:$G$205)),0)) | I114: =IF(D114="","",MIN(D114+F114,G114+H114)) | J114: =IF(D114="","",MIN(D114,MAX(0,I114-F114))) | K114: =IF(D114="","",MAX(0,D114+F114-I114)) | L114: =IF(D114="","",IF(D114<=0,"",1+COUNTIFS($D$106:$D$205,">0",$E$106:$E$205,">"&E114))) | M114: =IF(D114="","",IF(AND(K114>0,L114=1),"Yes","No")) | N114: =IF(D114="","",N14+F114) | O114: =IF(D114="","",IF(AND(K114=0,K14>0),C114,""))
A115: =IF(B115="","",DATE(YEAR('Debt Inputs'!$E$2),MONTH('Debt Inputs'!$E$2)+1,1)) | B115: =IF('Debt Inputs'!A15="","",'Debt Inputs'!A15) | C115: =IF(B115="","",IFERROR(VLOOKUP(B115,'Debt Inputs'!$A$6:$M$105,2,FALSE),"")) | D115: =IF(B115="","",K15) | E115: =IF(B115="","",IFERROR(VLOOKUP(B115,'Debt Inputs'!$A$6:$M$105,5,FALSE),0)) | F115: =IF(D115="","",IFERROR(D115*E115/12,0)) | G115: =IF(D115="","",MIN(IFERROR(VLOOKUP(B115,'Debt Inputs'!$A$6:$M$105,7,FALSE),0),D115+F115)) | H115: =IF(D115="","",IF(L115=1,MAX(0,'Debt Inputs'!$B$2-SUM($G$106:$G$205)),0)) | I115: =IF(D115="","",MIN(D115+F115,G115+H115)) | J115: =IF(D115="","",MIN(D115,MAX(0,I115-F115))) | K115: =IF(D115="","",MAX(0,D115+F115-I115)) | L115: =IF(D115="","",IF(D115<=0,"",1+COUNTIFS($D$106:$D$205,">0",$E$106:$E$205,">"&E115))) | M115: =IF(D115="","",IF(AND(K115>0,L115=1),"Yes","No")) | N115: =IF(D115="","",N15+F115) | O115: =IF(D115="","",IF(AND(K115=0,K15>0),C115,""))
A116: =IF(B116="","",DATE(YEAR('Debt Inputs'!$E$2),MONTH('Debt Inputs'!$E$2)+1,1)) | B116: =IF('Debt Inputs'!A16="","",'Debt Inputs'!A16) | C116: =IF(B116="","",IFERROR(VLOOKUP(B116,'Debt Inputs'!$A$6:$M$105,2,FALSE),"")) | D116: =IF(B116="","",K16) | E116: =IF(B116="","",IFERROR(VLOOKUP(B116,'Debt Inputs'!$A$6:$M$105,5,FALSE),0)) | F116: =IF(D116="","",IFERROR(D116*E116/12,0)) | G116: =IF(D116="","",MIN(IFERROR(VLOOKUP(B116,'Debt Inputs'!$A$6:$M$105,7,FALSE),0),D116+F116)) | H116: =IF(D116="","",IF(L116=1,MAX(0,'Debt Inputs'!$B$2-SUM($G$106:$G$205)),0)) | I116: =IF(D116="","",MIN(D116+F116,G116+H116)) | J116: =IF(D116="","",MIN(D116,MAX(0,I116-F116))) | K116: =IF(D116="","",MAX(0,D116+F116-I116)) | L116: =IF(D116="","",IF(D116<=0,"",1+COUNTIFS($D$106:$D$205,">0",$E$106:$E$205,">"&E116))) | M116: =IF(D116="","",IF(AND(K116>0,L116=1),"Yes","No")) | N116: =IF(D116="","",N16+F116) | O116: =IF(D116="","",IF(AND(K116=0,K16>0),C116,""))
A117: =IF(B117="","",DATE(YEAR('Debt Inputs'!$E$2),MONTH('Debt Inputs'!$E$2)+1,1)) | B117: =IF('Debt Inputs'!A17="","",'Debt Inputs'!A17) | C117: =IF(B117="","",IFERROR(VLOOKUP(B117,'Debt Inputs'!$A$6:$M$105,2,FALSE),"")) | D117: =IF(B117="","",K17) | E117: =IF(B117="","",IFERROR(VLOOKUP(B117,'Debt Inputs'!$A$6:$M$105,5,FALSE),0)) | F117: =IF(D117="","",IFERROR(D117*E117/12,0)) | G117: =IF(D117="","",MIN(IFERROR(VLOOKUP(B117,'Debt Inputs'!$A$6:$M$105,7,FALSE),0),D117+F117)) | H117: =IF(D117="","",IF(L117=1,MAX(0,'Debt Inputs'!$B$2-SUM($G$106:$G$205)),0)) | I117: =IF(D117="","",MIN(D117+F117,G117+H117)) | J117: =IF(D117="","",MIN(D117,MAX(0,I117-F117))) | K117: =IF(D117="","",MAX(0,D117+F117-I117)) | L117: =IF(D117="","",IF(D117<=0,"",1+COUNTIFS($D$106:$D$205,">0",$E$106:$E$205,">"&E117))) | M117: =IF(D117="","",IF(AND(K117>0,L117=1),"Yes","No")) | N117: =IF(D117="","",N17+F117) | O117: =IF(D117="","",IF(AND(K117=0,K17>0),C117,""))
... A205: =IF(B205="","",DATE(YEAR('Debt Inputs'!$E$2),MONTH('Debt Inputs'!$E$2)+1,1)) | B205: =IF('Debt Inputs'!A105="","",'Debt Inputs'!A105) | C205: =IF(B205="","",IFERROR(VLOOKUP(B205,'Debt Inputs'!$A$6:$M$105,2,FALSE),"")) | D205: =IF(B205="","",K105) | E205: =IF(B205="","",IFERROR(VLOOKUP(B205,'Debt Inputs'!$A$6:$M$105,5,FALSE),0)) | F205: =IF(D205="","",IFERROR(D205*E205/12,0)) | G205: =IF(D205="","",MIN(IFERROR(VLOOKUP(B205,'Debt Inputs'!$A$6:$M$105,7,FALSE),0),D205+F205)) | H205: =IF(D205="","",IF(L205=1,MAX(0,'Debt Inputs'!$B$2-SUM($G$106:$G$205)),0)) | I205: =IF(D205="","",MIN(D205+F205,G205+H205)) | J205: =IF(D205="","",MIN(D205,MAX(0,I205-F205))) | K205: =IF(D205="","",MAX(0,D205+F205-I205)) | L205: =IF(D205="","",IF(D205<=0,"",1+COUNTIFS($D$106:$D$205,">0",$E$106:$E$205,">"&E205))) | M205: =IF(D205="","",IF(AND(K205>0,L205=1),"Yes","No")) | N205: =IF(D205="","",N105+F205) | O205: =IF(D205="","",IF(AND(K205=0,K105>0),C205,""))
A206: =IF(B206="","",DATE(YEAR('Debt Inputs'!$E$2),MONTH('Debt Inputs'!$E$2)+2,1)) | B206: =IF('Debt Inputs'!A6="","",'Debt Inputs'!A6) | C206: =IF(B206="","",IFERROR(VLOOKUP(B206,'Debt Inputs'!$A$6:$M$105,2,FALSE),"")) | D206: =IF(B206="","",K106) | E206: =IF(B206="","",IFERROR(VLOOKUP(B206,'Debt Inputs'!$A$6:$M$105,5,FALSE),0)) | F206: =IF(D206="","",IFERROR(D206*E206/12,0)) | G206: =IF(D206="","",MIN(IFERROR(VLOOKUP(B206,'Debt Inputs'!$A$6:$M$105,7,FALSE),0),D206+F206)) | H206: =IF(D206="","",IF(L206=1,MAX(0,'Debt Inputs'!$B$2-SUM($G$206:$G$305)),0)) | I206: =IF(D206="","",MIN(D206+F206,G206+H206)) | J206: =IF(D206="","",MIN(D206,MAX(0,I206-F206))) | K206: =IF(D206="","",MAX(0,D206+F206-I206)) | L206: =IF(D206="","",IF(D206<=0,"",1+COUNTIFS($D$206:$D$305,">0",$E$206:$E$305,">"&E206))) | M206: =IF(D206="","",IF(AND(K206>0,L206=1),"Yes","No")) | N206: =IF(D206="","",N106+F206) | O206: =IF(D206="","",IF(AND(K206=0,K106>0),C206,""))
A207: =IF(B207="","",DATE(YEAR('Debt Inputs'!$E$2),MONTH('Debt Inputs'!$E$2)+2,1)) | B207: =IF('Debt Inputs'!A7="","",'Debt Inputs'!A7) | C207: =IF(B207="","",IFERROR(VLOOKUP(B207,'Debt Inputs'!$A$6:$M$105,2,FALSE),"")) | D207: =IF(B207="","",K107) | E207: =IF(B207="","",IFERROR(VLOOKUP(B207,'Debt Inputs'!$A$6:$M$105,5,FALSE),0)) | F207: =IF(D207="","",IFERROR(D207*E207/12,0)) | G207: =IF(D207="","",MIN(IFERROR(VLOOKUP(B207,'Debt Inputs'!$A$6:$M$105,7,FALSE),0),D207+F207)) | H207: =IF(D207="","",IF(L207=1,MAX(0,'Debt Inputs'!$B$2-SUM($G$206:$G$305)),0)) | I207: =IF(D207="","",MIN(D207+F207,G207+H207)) | J207: =IF(D207="","",MIN(D207,MAX(0,I207-F207))) | K207: =IF(D207="","",MAX(0,D207+F207-I207)) | L207: =IF(D207="","",IF(D207<=0,"",1+COUNTIFS($D$206:$D$305,">0",$E$206:$E$305,">"&E207))) | M207: =IF(D207="","",IF(AND(K207>0,L207=1),"Yes","No")) | N207: =IF(D207="","",N107+F207) | O207: =IF(D207="","",IF(AND(K207=0,K107>0),C207,""))
A208: =IF(B208="","",DATE(YEAR('Debt Inputs'!$E$2),MONTH('Debt Inputs'!$E$2)+2,1)) | B208: =IF('Debt Inputs'!A8="","",'Debt Inputs'!A8) | C208: =IF(B208="","",IFERROR(VLOOKUP(B208,'Debt Inputs'!$A$6:$M$105,2,FALSE),"")) | D208: =IF(B208="","",K108) | E208: =IF(B208="","",IFERROR(VLOOKUP(B208,'Debt Inputs'!$A$6:$M$105,5,FALSE),0)) | F208: =IF(D208="","",IFERROR(D208*E208/12,0)) | G208: =IF(D208="","",MIN(IFERROR(VLOOKUP(B208,'Debt Inputs'!$A$6:$M$105,7,FALSE),0),D208+F208)) | H208: =IF(D208="","",IF(L208=1,MAX(0,'Debt Inputs'!$B$2-SUM($G$206:$G$305)),0)) | I208: =IF(D208="","",MIN(D208+F208,G208+H208)) | J208: =IF(D208="","",MIN(D208,MAX(0,I208-F208))) | K208: =IF(D208="","",MAX(0,D208+F208-I208)) | L208: =IF(D208="","",IF(D208<=0,"",1+COUNTIFS($D$206:$D$305,">0",$E$206:$E$305,">"&E208))) | M208: =IF(D208="","",IF(AND(K208>0,L208=1),"Yes","No")) | N208: =IF(D208="","",N108+F208) | O208: =IF(D208="","",IF(AND(K208=0,K108>0),C208,""))
A209: =IF(B209="","",DATE(YEAR('Debt Inputs'!$E$2),MONTH('Debt Inputs'!$E$2)+2,1)) | B209: =IF('Debt Inputs'!A9="","",'Debt Inputs'!A9) | C209: =IF(B209="","",IFERROR(VLOOKUP(B209,'Debt Inputs'!$A$6:$M$105,2,FALSE),"")) | D209: =IF(B209="","",K109) | E209: =IF(B209="","",IFERROR(VLOOKUP(B209,'Debt Inputs'!$A$6:$M$105,5,FALSE),0)) | F209: =IF(D209="","",IFERROR(D209*E209/12,0)) | G209: =IF(D209="","",MIN(IFERROR(VLOOKUP(B209,'Debt Inputs'!$A$6:$M$105,7,FALSE),0),D209+F209)) | H209: =IF(D209="","",IF(L209=1,MAX(0,'Debt Inputs'!$B$2-SUM($G$206:$G$305)),0)) | I209: =IF(D209="","",MIN(D209+F209,G209+H209)) | J209: =IF(D209="","",MIN(D209,MAX(0,I209-F209))) | K209: =IF(D209="","",MAX(0,D209+F209-I209)) | L209: =IF(D209="","",IF(D209<=0,"",1+COUNTIFS($D$206:$D$305,">0",$E$206:$E$305,">"&E209))) | M209: =IF(D209="","",IF(AND(K209>0,L209=1),"Yes","No")) | N209: =IF(D209="","",N109+F209) | O209: =IF(D209="","",IF(AND(K209=0,K109>0),C209,""))
A210: =IF(B210="","",DATE(YEAR('Debt Inputs'!$E$2),MONTH('Debt Inputs'!$E$2)+2,1)) | B210: =IF('Debt Inputs'!A10="","",'Debt Inputs'!A10) | C210: =IF(B210="","",IFERROR(VLOOKUP(B210,'Debt Inputs'!$A$6:$M$105,2,FALSE),"")) | D210: =IF(B210="","",K110) | E210: =IF(B210="","",IFERROR(VLOOKUP(B210,'Debt Inputs'!$A$6:$M$105,5,FALSE),0)) | F210: =IF(D210="","",IFERROR(D210*E210/12,0)) | G210: =IF(D210="","",MIN(IFERROR(VLOOKUP(B210,'Debt Inputs'!$A$6:$M$105,7,FALSE),0),D210+F210)) | H210: =IF(D210="","",IF(L210=1,MAX(0,'Debt Inputs'!$B$2-SUM($G$206:$G$305)),0)) | I210: =IF(D210="","",MIN(D210+F210,G210+H210)) | J210: =IF(D210="","",MIN(D210,MAX(0,I210-F210))) | K210: =IF(D210="","",MAX(0,D210+F210-I210)) | L210: =IF(D210="","",IF(D210<=0,"",1+COUNTIFS($D$206:$D$305,">0",$E$206:$E$305,">"&E210))) | M210: =IF(D210="","",IF(AND(K210>0,L210=1),"Yes","No")) | N210: =IF(D210="","",N110+F210) | O210: =IF(D210="","",IF(AND(K210=0,K110>0),C210,""))
A211: =IF(B211="","",DATE(YEAR('Debt Inputs'!$E$2),MONTH('Debt Inputs'!$E$2)+2,1)) | B211: =IF('Debt Inputs'!A11="","",'Debt Inputs'!A11) | C211: =IF(B211="","",IFERROR(VLOOKUP(B211,'Debt Inputs'!$A$6:$M$105,2,FALSE),"")) | D211: =IF(B211="","",K111) | E211: =IF(B211="","",IFERROR(VLOOKUP(B211,'Debt Inputs'!$A$6:$M$105,5,FALSE),0)) | F211: =IF(D211="","",IFERROR(D211*E211/12,0)) | G211: =IF(D211="","",MIN(IFERROR(VLOOKUP(B211,'Debt Inputs'!$A$6:$M$105,7,FALSE),0),D211+F211)) | H211: =IF(D211="","",IF(L211=1,MAX(0,'Debt Inputs'!$B$2-SUM($G$206:$G$305)),0)) | I211: =IF(D211="","",MIN(D211+F211,G211+H211)) | J211: =IF(D211="","",MIN(D211,MAX(0,I211-F211))) | K211: =IF(D211="","",MAX(0,D211+F211-I211)) | L211: =IF(D211="","",IF(D211<=0,"",1+COUNTIFS($D$206:$D$305,">0",$E$206:$E$305,">"&E211))) | M211: =IF(D211="","",IF(AND(K211>0,L211=1),"Yes","No")) | N211: =IF(D211="","",N111+F211) | O211: =IF(D211="","",IF(AND(K211=0,K111>0),C211,""))
A212: =IF(B212="","",DATE(YEAR('Debt Inputs'!$E$2),MONTH('Debt Inputs'!$E$2)+2,1)) | B212: =IF('Debt Inputs'!A12="","",'Debt Inputs'!A12) | C212: =IF(B212="","",IFERROR(VLOOKUP(B212,'Debt Inputs'!$A$6:$M$105,2,FALSE),"")) | D212: =IF(B212="","",K112) | E212: =IF(B212="","",IFERROR(VLOOKUP(B212,'Debt Inputs'!$A$6:$M$105,5,FALSE),0)) | F212: =IF(D212="","",IFERROR(D212*E212/12,0)) | G212: =IF(D212="","",MIN(IFERROR(VLOOKUP(B212,'Debt Inputs'!$A$6:$M$105,7,FALSE),0),D212+F212)) | H212: =IF(D212="","",IF(L212=1,MAX(0,'Debt Inputs'!$B$2-SUM($G$206:$G$305)),0)) | I212: =IF(D212="","",MIN(D212+F212,G212+H212)) | J212: =IF(D212="","",MIN(D212,MAX(0,I212-F212))) | K212: =IF(D212="","",MAX(0,D212+F212-I212)) | L212: =IF(D212="","",IF(D212<=0,"",1+COUNTIFS($D$206:$D$305,">0",$E$206:$E$305,">"&E212))) | M212: =IF(D212="","",IF(AND(K212>0,L212=1),"Yes","No")) | N212: =IF(D212="","",N112+F212) | O212: =IF(D212="","",IF(AND(K212=0,K112>0),C212,""))
A213: =IF(B213="","",DATE(YEAR('Debt Inputs'!$E$2),MONTH('Debt Inputs'!$E$2)+2,1)) | B213: =IF('Debt Inputs'!A13="","",'Debt Inputs'!A13) | C213: =IF(B213="","",IFERROR(VLOOKUP(B213,'Debt Inputs'!$A$6:$M$105,2,FALSE),"")) | D213: =IF(B213="","",K113) | E213: =IF(B213="","",IFERROR(VLOOKUP(B213,'Debt Inputs'!$A$6:$M$105,5,FALSE),0)) | F213: =IF(D213="","",IFERROR(D213*E213/12,0)) | G213: =IF(D213="","",MIN(IFERROR(VLOOKUP(B213,'Debt Inputs'!$A$6:$M$105,7,FALSE),0),D213+F213)) | H213: =IF(D213="","",IF(L213=1,MAX(0,'Debt Inputs'!$B$2-SUM($G$206:$G$305)),0)) | I213: =IF(D213="","",MIN(D213+F213,G213+H213)) | J213: =IF(D213="","",MIN(D213,MAX(0,I213-F213))) | K213: =IF(D213="","",MAX(0,D213+F213-I213)) | L213: =IF(D213="","",IF(D213<=0,"",1+COUNTIFS($D$206:$D$305,">0",$E$206:$E$305,">"&E213))) | M213: =IF(D213="","",IF(AND(K213>0,L213=1),"Yes","No")) | N213: =IF(D213="","",N113+F213) | O213: =IF(D213="","",IF(AND(K213=0,K113>0),C213,""))
A214: =IF(B214="","",DATE(YEAR('Debt Inputs'!$E$2),MONTH('Debt Inputs'!$E$2)+2,1)) | B214: =IF('Debt Inputs'!A14="","",'Debt Inputs'!A14) | C214: =IF(B214="","",IFERROR(VLOOKUP(B214,'Debt Inputs'!$A$6:$M$105,2,FALSE),"")) | D214: =IF(B214="","",K114) | E214: =IF(B214="","",IFERROR(VLOOKUP(B214,'Debt Inputs'!$A$6:$M$105,5,FALSE),0)) | F214: =IF(D214="","",IFERROR(D214*E214/12,0)) | G214: =IF(D214="","",MIN(IFERROR(VLOOKUP(B214,'Debt Inputs'!$A$6:$M$105,7,FALSE),0),D214+F214)) | H214: =IF(D214="","",IF(L214=1,MAX(0,'Debt Inputs'!$B$2-SUM($G$206:$G$305)),0)) | I214: =IF(D214="","",MIN(D214+F214,G214+H214)) | J214: =IF(D214="","",MIN(D214,MAX(0,I214-F214))) | K214: =IF(D214="","",MAX(0,D214+F214-I214)) | L214: =IF(D214="","",IF(D214<=0,"",1+COUNTIFS($D$206:$D$305,">0",$E$206:$E$305,">"&E214))) | M214: =IF(D214="","",IF(AND(K214>0,L214=1),"Yes","No")) | N214: =IF(D214="","",N114+F214) | O214: =IF(D214="","",IF(AND(K214=0,K114>0),C214,""))
A215: =IF(B215="","",DATE(YEAR('Debt Inputs'!$E$2),MONTH('Debt Inputs'!$E$2)+2,1)) | B215: =IF('Debt Inputs'!A15="","",'Debt Inputs'!A15) | C215: =IF(B215="","",IFERROR(VLOOKUP(B215,'Debt Inputs'!$A$6:$M$105,2,FALSE),"")) | D215: =IF(B215="","",K115) | E215: =IF(B215="","",IFERROR(VLOOKUP(B215,'Debt Inputs'!$A$6:$M$105,5,FALSE),0)) | F215: =IF(D215="","",IFERROR(D215*E215/12,0)) | G215: =IF(D215="","",MIN(IFERROR(VLOOKUP(B215,'Debt Inputs'!$A$6:$M$105,7,FALSE),0),D215+F215)) | H215: =IF(D215="","",IF(L215=1,MAX(0,'Debt Inputs'!$B$2-SUM($G$206:$G$305)),0)) | I215: =IF(D215="","",MIN(D215+F215,G215+H215)) | J215: =IF(D215="","",MIN(D215,MAX(0,I215-F215))) | K215: =IF(D215="","",MAX(0,D215+F215-I215)) | L215: =IF(D215="","",IF(D215<=0,"",1+COUNTIFS($D$206:$D$305,">0",$E$206:$E$305,">"&E215))) | M215: =IF(D215="","",IF(AND(K215>0,L215=1),"Yes","No")) | N215: =IF(D215="","",N115+F215) | O215: =IF(D215="","",IF(AND(K215=0,K115>0),C215,""))
A216: =IF(B216="","",DATE(YEAR('Debt Inputs'!$E$2),MONTH('Debt Inputs'!$E$2)+2,1)) | B216: =IF('Debt Inputs'!A16="","",'Debt Inputs'!A16) | C216: =IF(B216="","",IFERROR(VLOOKUP(B216,'Debt Inputs'!$A$6:$M$105,2,FALSE),"")) | D216: =IF(B216="","",K116) | E216: =IF(B216="","",IFERROR(VLOOKUP(B216,'Debt Inputs'!$A$6:$M$105,5,FALSE),0)) | F216: =IF(D216="","",IFERROR(D216*E216/12,0)) | G216: =IF(D216="","",MIN(IFERROR(VLOOKUP(B216,'Debt Inputs'!$A$6:$M$105,7,FALSE),0),D216+F216)) | H216: =IF(D216="","",IF(L216=1,MAX(0,'Debt Inputs'!$B$2-SUM($G$206:$G$305)),0)) | I216: =IF(D216="","",MIN(D216+F216,G216+H216)) | J216: =IF(D216="","",MIN(D216,MAX(0,I216-F216))) | K216: =IF(D216="","",MAX(0,D216+F216-I216)) | L216: =IF(D216="","",IF(D216<=0,"",1+COUNTIFS($D$206:$D$305,">0",$E$206:$E$305,">"&E216))) | M216: =IF(D216="","",IF(AND(K216>0,L216=1),"Yes","No")) | N216: =IF(D216="","",N116+F216) | O216: =IF(D216="","",IF(AND(K216=0,K116>0),C216,""))
...

Sheet Dashboard
A1: Debt Avalanche Payoff Dashboard
A3: Starting Debt | B3: Monthly Debt Budget | C3: Total Minimum Payments | D3: Extra Monthly Payment | E3: Weighted Average APR | F3: Estimated Total Interest | G3: Estimated Debt-Free Date | H3: Debts Paid Off
A4: =SUM('Debt Inputs'!$F$6:$F$105) | B4: ='Debt Inputs'!$B$2 | C4: =SUM('Debt Inputs'!$G$6:$G$105) | D4: ='Debt Inputs'!$B$3 | E4: =IFERROR(SUMPRODUCT('Debt Inputs'!$E$6:$E$105,'Debt Inputs'!$F$6:$F$105)/SUM('Debt Inputs'!$F$6:$F$105),0) | F4: =SUM('Payoff Plan'!$F$6:$F$6005) | G4: =IF(COUNT('Payoff Plan'!$O$6:$O$6005)=0,"",MAX('Payoff Plan'!$O$6:$O$6005)) | H4: =COUNTIF('Debt Inputs'!$L$6:$L$105,"Paid Off")
A7: Debt Balance by Avalanche Priority | H7: Monthly Remaining Balance Trend | L7: Balance Distribution by Debt Type
A17: Priority / Creditor | B17: Current Balance | C17: APR | D17: Priority | H17: Month | I17: Total Ending Balance | L17: Debt Type | M17: Balance
A18: =IF('Debt Inputs'!B6="","",'Debt Inputs'!J6&" - "&'Debt Inputs'!B6) | B18: =IF('Debt Inputs'!F6="","",'Debt Inputs'!F6) | C18: =IF('Debt Inputs'!E6="","",'Debt Inputs'!E6) | D18: =IF('Debt Inputs'!J6="","",'Debt Inputs'!J6) | H18: =IF(COUNT('Payoff Plan'!$A$6:$A$105)=0,"",'Payoff Plan'!$A$6) | I18: =SUM('Payoff Plan'!$K$6:$K$105) | L18: Credit Card | M18: =SUMIF('Debt Inputs'!$C$6:$C$105,L18,'Debt Inputs'!$F$6:$F$105)
A19: =IF('Debt Inputs'!B7="","",'Debt Inputs'!J7&" - "&'Debt Inputs'!B7) | B19: =IF('Debt Inputs'!F7="","",'Debt Inputs'!F7) | C19: =IF('Debt Inputs'!E7="","",'Debt Inputs'!E7) | D19: =IF('Debt Inputs'!J7="","",'Debt Inputs'!J7) | H19: =IF(COUNT('Payoff Plan'!$A$106:$A$205)=0,"",'Payoff Plan'!$A$106) | I19: =SUM('Payoff Plan'!$K$106:$K$205) | L19: Personal Loan | M19: =SUMIF('Debt Inputs'!$C$6:$C$105,L19,'Debt Inputs'!$F$6:$F$105)
A20: =IF('Debt Inputs'!B8="","",'Debt Inputs'!J8&" - "&'Debt Inputs'!B8) | B20: =IF('Debt Inputs'!F8="","",'Debt Inputs'!F8) | C20: =IF('Debt Inputs'!E8="","",'Debt Inputs'!E8) | D20: =IF('Debt Inputs'!J8="","",'Debt Inputs'!J8) | H20: =IF(COUNT('Payoff Plan'!$A$206:$A$305)=0,"",'Payoff Plan'!$A$206) | I20: =SUM('Payoff Plan'!$K$206:$K$305) | L20: Auto Loan | M20: =SUMIF('Debt Inputs'!$C$6:$C$105,L20,'Debt Inputs'!$F$6:$F$105)
A21: =IF('Debt Inputs'!B9="","",'Debt Inputs'!J9&" - "&'Debt Inputs'!B9) | B21: =IF('Debt Inputs'!F9="","",'Debt Inputs'!F9) | C21: =IF('Debt Inputs'!E9="","",'Debt Inputs'!E9) | D21: =IF('Debt Inputs'!J9="","",'Debt Inputs'!J9) | H21: =IF(COUNT('Payoff Plan'!$A$306:$A$405)=0,"",'Payoff Plan'!$A$306) | I21: =SUM('Payoff Plan'!$K$306:$K$405) | L21: Student Loan | M21: =SUMIF('Debt Inputs'!$C$6:$C$105,L21,'Debt Inputs'!$F$6:$F$105)
A22: =IF('Debt Inputs'!B10="","",'Debt Inputs'!J10&" - "&'Debt Inputs'!B10) | B22: =IF('Debt Inputs'!F10="","",'Debt Inputs'!F10) | C22: =IF('Debt Inputs'!E10="","",'Debt Inputs'!E10) | D22: =IF('Debt Inputs'!J10="","",'Debt Inputs'!J10) | H22: =IF(COUNT('Payoff Plan'!$A$406:$A$505)=0,"",'Payoff Plan'!$A$406) | I22: =SUM('Payoff Plan'!$K$406:$K$505) | L22: Medical Debt | M22: =SUMIF('Debt Inputs'!$C$6:$C$105,L22,'Debt Inputs'!$F$6:$F$105)
A23: =IF('Debt Inputs'!B11="","",'Debt Inputs'!J11&" - "&'Debt Inputs'!B11) | B23: =IF('Debt Inputs'!F11="","",'Debt Inputs'!F11) | C23: =IF('Debt Inputs'!E11="","",'Debt Inputs'!E11) | D23: =IF('Debt Inputs'!J11="","",'Debt Inputs'!J11) | H23: =IF(COUNT('Payoff Plan'!$A$506:$A$605)=0,"",'Payoff Plan'!$A$506) | I23: =SUM('Payoff Plan'!$K$506:$K$605) | L23: Other | M23: =SUMIF('Debt Inputs'!$C$6:$C$105,L23,'Debt Inputs'!$F$6:$F$105)
A24: =IF('Debt Inputs'!B12="","",'Debt Inputs'!J12&" - "&'Debt Inputs'!B12) | B24: =IF('Debt Inputs'!F12="","",'Debt Inputs'!F12) | C24: =IF('Debt Inputs'!E12="","",'Debt Inputs'!E12) | D24: =IF('Debt Inputs'!J12="","",'Debt Inputs'!J12) | H24: =IF(COUNT('Payoff Plan'!$A$606:$A$705)=0,"",'Payoff Plan'!$A$606) | I24: =SUM('Payoff Plan'!$K$606:$K$705) | M24: =""
A25: =IF('Debt Inputs'!B13="","",'Debt Inputs'!J13&" - "&'Debt Inputs'!B13) | B25: =IF('Debt Inputs'!F13="","",'Debt Inputs'!F13) | C25: =IF('Debt Inputs'!E13="","",'Debt Inputs'!E13) | D25: =IF('Debt Inputs'!J13="","",'Debt Inputs'!J13) | H25: =IF(COUNT('Payoff Plan'!$A$706:$A$805)=0,"",'Payoff Plan'!$A$706) | I25: =SUM('Payoff Plan'!$K$706:$K$805) | M25: =""
A26: =IF('Debt Inputs'!B14="","",'Debt Inputs'!J14&" - "&'Debt Inputs'!B14) | B26: =IF('Debt Inputs'!F14="","",'Debt Inputs'!F14) | C26: =IF('Debt Inputs'!E14="","",'Debt Inputs'!E14) | D26: =IF('Debt Inputs'!J14="","",'Debt Inputs'!J14) | H26: =IF(COUNT('Payoff Plan'!$A$806:$A$905)=0,"",'Payoff Plan'!$A$806) | I26: =SUM('Payoff Plan'!$K$806:$K$905) | M26: =""
A27: =IF('Debt Inputs'!B15="","",'Debt Inputs'!J15&" - "&'Debt Inputs'!B15) | B27: =IF('Debt Inputs'!F15="","",'Debt Inputs'!F15) | C27: =IF('Debt Inputs'!E15="","",'Debt Inputs'!E15) | D27: =IF('Debt Inputs'!J15="","",'Debt Inputs'!J15) | H27: =IF(COUNT('Payoff Plan'!$A$906:$A$1005)=0,"",'Payoff Plan'!$A$906) | I27: =SUM('Payoff Plan'!$K$906:$K$1005) | M27: =""
A28: =IF('Debt Inputs'!B16="","",'Debt Inputs'!J16&" - "&'Debt Inputs'!B16) | B28: =IF('Debt Inputs'!F16="","",'Debt Inputs'!F16) | C28: =IF('Debt Inputs'!E16="","",'Debt Inputs'!E16) | D28: =IF('Debt Inputs'!J16="","",'Debt Inputs'!J16) | H28: =IF(COUNT('Payoff Plan'!$A$1006:$A$1105)=0,"",'Payoff Plan'!$A$1006) | I28: =SUM('Payoff Plan'!$K$1006:$K$1105) | M28: =""
A29: =IF('Debt Inputs'!B17="","",'Debt Inputs'!J17&" - "&'Debt Inputs'!B17) | B29: =IF('Debt Inputs'!F17="","",'Debt Inputs'!F17) | C29: =IF('Debt Inputs'!E17="","",'Debt Inputs'!E17) | D29: =IF('Debt Inputs'!J17="","",'Debt Inputs'!J17) | H29: =IF(COUNT('Payoff Plan'!$A$1106:$A$1205)=0,"",'Payoff Plan'!$A$1106) | I29: =SUM('Payoff Plan'!$K$1106:$K$1205) | M29: =""
A30: =IF('Debt Inputs'!B18="","",'Debt Inputs'!J18&" - "&'Debt Inputs'!B18) | B30: =IF('Debt Inputs'!F18="","",'Debt Inputs'!F18) | C30: =IF('Debt Inputs'!E18="","",'Debt Inputs'!E18) | D30: =IF('Debt Inputs'!J18="","",'Debt Inputs'!J18) | H30: =IF(COUNT('Payoff Plan'!$A$1206:$A$1305)=0,"",'Payoff Plan'!$A$1206) | I30: =SUM('Payoff Plan'!$K$1206:$K$1305) | M30: =""
A31: =IF('Debt Inputs'!B19="","",'Debt Inputs'!J19&" - "&'Debt Inputs'!B19) | B31: =IF('Debt Inputs'!F19="","",'Debt Inputs'!F19) | C31: =IF('Debt Inputs'!E19="","",'Debt Inputs'!E19) | D31: =IF('Debt Inputs'!J19="","",'Debt Inputs'!J19) | H31: =IF(COUNT('Payoff Plan'!$A$1306:$A$1405)=0,"",'Payoff Plan'!$A$1306) | I31: =SUM('Payoff Plan'!$K$1306:$K$1405) | M31: =""
A32: =IF('Debt Inputs'!B20="","",'Debt Inputs'!J20&" - "&'Debt Inputs'!B20) | B32: =IF('Debt Inputs'!F20="","",'Debt Inputs'!F20) | C32: =IF('Debt Inputs'!E20="","",'Debt Inputs'!E20) | D32: =IF('Debt Inputs'!J20="","",'Debt Inputs'!J20) | H32: =IF(COUNT('Payoff Plan'!$A$1406:$A$1505)=0,"",'Payoff Plan'!$A$1406) | I32: =SUM('Payoff Plan'!$K$1406:$K$1505) | M32: =""
A33: =IF('Debt Inputs'!B21="","",'Debt Inputs'!J21&" - "&'Debt Inputs'!B21) | B33: =IF('Debt Inputs'!F21="","",'Debt Inputs'!F21) | C33: =IF('Debt Inputs'!E21="","",'Debt Inputs'!E21) | D33: =IF('Debt Inputs'!J21="","",'Debt Inputs'!J21) | H33: =IF(COUNT('Payoff Plan'!$A$1506:$A$1605)=0,"",'Payoff Plan'!$A$1506) | I33: =SUM('Payoff Plan'!$K$1506:$K$1605) | M33: =""
A34: =IF('Debt Inputs'!B22="","",'Debt Inputs'!J22&" - "&'Debt Inputs'!B22) | B34: =IF('Debt Inputs'!F22="","",'Debt Inputs'!F22) | C34: =IF('Debt Inputs'!E22="","",'Debt Inputs'!E22) | D34: =IF('Debt Inputs'!J22="","",'Debt Inputs'!J22) | H34: =IF(COUNT('Payoff Plan'!$A$1606:$A$1705)=0,"",'Payoff Plan'!$A$1606) | I34: =SUM('Payoff Plan'!$K$1606:$K$1705) | M34: =""
A35: =IF('Debt Inputs'!B23="","",'Debt Inputs'!J23&" - "&'Debt Inputs'!B23) | B35: =IF('Debt Inputs'!F23="","",'Debt Inputs'!F23) | C35: =IF('Debt Inputs'!E23="","",'Debt Inputs'!E23) | D35: =IF('Debt Inputs'!J23="","",'Debt Inputs'!J23) | H35: =IF(COUNT('Payoff Plan'!$A$1706:$A$1805)=0,"",'Payoff Plan'!$A$1706) | I35: =SUM('Payoff Plan'!$K$1706:$K$1805) | M35: =""
A36: =IF('Debt Inputs'!B24="","",'Debt Inputs'!J24&" - "&'Debt Inputs'!B24) | B36: =IF('Debt Inputs'!F24="","",'Debt Inputs'!F24) | C36: =IF('Debt Inputs'!E24="","",'Debt Inputs'!E24) | D36: =IF('Debt Inputs'!J24="","",'Debt Inputs'!J24) | H36: =IF(COUNT('Payoff Plan'!$A$1806:$A$1905)=0,"",'Payoff Plan'!$A$1806) | I36: =SUM('Payoff Plan'!$K$1806:$K$1905) | M36: =""
A37: =IF('Debt Inputs'!B25="","",'Debt Inputs'!J25&" - "&'Debt Inputs'!B25) | B37: =IF('Debt Inputs'!F25="","",'Debt Inputs'!F25) | C37: =IF('Debt Inputs'!E25="","",'Debt Inputs'!E25) | D37: =IF('Debt Inputs'!J25="","",'Debt Inputs'!J25) | H37: =IF(COUNT('Payoff Plan'!$A$1906:$A$2005)=0,"",'Payoff Plan'!$A$1906) | I37: =SUM('Payoff Plan'!$K$1906:$K$2005) | M37: =""
A38: =IF('Debt Inputs'!B26="","",'Debt Inputs'!J26&" - "&'Debt Inputs'!B26) | B38: =IF('Debt Inputs'!F26="","",'Debt Inputs'!F26) | C38: =IF('Debt Inputs'!E26="","",'Debt Inputs'!E26) | D38: =IF('Debt Inputs'!J26="","",'Debt Inputs'!J26) | H38: =IF(COUNT('Payoff Plan'!$A$2006:$A$2105)=0,"",'Payoff Plan'!$A$2006) | I38: =SUM('Payoff Plan'!$K$2006:$K$2105) | M38: =""
A39: =IF('Debt Inputs'!B27="","",'Debt Inputs'!J27&" - "&'Debt Inputs'!B27) | B39: =IF('Debt Inputs'!F27="","",'Debt Inputs'!F27) | C39: =IF('Debt Inputs'!E27="","",'Debt Inputs'!E27) | D39: =IF('Debt Inputs'!J27="","",'Debt Inputs'!J27) | H39: =IF(COUNT('Payoff Plan'!$A$2106:$A$2205)=0,"",'Payoff Plan'!$A$2106) | I39: =SUM('Payoff Plan'!$K$2106:$K$2205) | M39: =""
A40: =IF('Debt Inputs'!B28="","",'Debt Inputs'!J28&" - "&'Debt Inputs'!B28) | B40: =IF('Debt Inputs'!F28="","",'Debt Inputs'!F28) | C40: =IF('Debt Inputs'!E28="","",'Debt Inputs'!E28) | D40: =IF('Debt Inputs'!J28="","",'Debt Inputs'!J28) | H40: =IF(COUNT('Payoff Plan'!$A$2206:$A$2305)=0,"",'Payoff Plan'!$A$2206) | I40: =SUM('Payoff Plan'!$K$2206:$K$2305) | M40: =""
A41: =IF('Debt Inputs'!B29="","",'Debt Inputs'!J29&" - "&'Debt Inputs'!B29) | B41: =IF('Debt Inputs'!F29="","",'Debt Inputs'!F29) | C41: =IF('Debt Inputs'!E29="","",'Debt Inputs'!E29) | D41: =IF('Debt Inputs'!J29="","",'Debt Inputs'!J29) | H41: =IF(COUNT('Payoff Plan'!$A$2306:$A$2405)=0,"",'Payoff Plan'!$A$2306) | I41: =SUM('Payoff Plan'!$K$2306:$K$2405) | M41: =""
A42: =IF('Debt Inputs'!B30="","",'Debt Inputs'!J30&" - "&'Debt Inputs'!B30) | B42: =IF('Debt Inputs'!F30="","",'Debt Inputs'!F30) | C42: =IF('Debt Inputs'!E30="","",'Debt Inputs'!E30) | D42: =IF('Debt Inputs'!J30="","",'Debt Inputs'!J30) | H42: =IF(COUNT('Payoff Plan'!$A$2406:$A$2505)=0,"",'Payoff Plan'!$A$2406) | I42: =SUM('Payoff Plan'!$K$2406:$K$2505) | M42: =""
A43: =IF('Debt Inputs'!B31="","",'Debt Inputs'!J31&" - "&'Debt Inputs'!B31) | B43: =IF('Debt Inputs'!F31="","",'Debt Inputs'!F31) | C43: =IF('Debt Inputs'!E31="","",'Debt Inputs'!E31) | D43: =IF('Debt Inputs'!J31="","",'Debt Inputs'!J31) | H43: =IF(COUNT('Payoff Plan'!$A$2506:$A$2605)=0,"",'Payoff Plan'!$A$2506) | I43: =SUM('Payoff Plan'!$K$2506:$K$2605) | M43: =""
A44: =IF('Debt Inputs'!B32="","",'Debt Inputs'!J32&" - "&'Debt Inputs'!B32) | B44: =IF('Debt Inputs'!F32="","",'Debt Inputs'!F32) | C44: =IF('Debt Inputs'!E32="","",'Debt Inputs'!E32) | D44: =IF('Debt Inputs'!J32="","",'Debt Inputs'!J32) | H44: =IF(COUNT('Payoff Plan'!$A$2606:$A$2705)=0,"",'Payoff Plan'!$A$2606) | I44: =SUM('Payoff Plan'!$K$2606:$K$2705) | M44: =""
A45: =IF('Debt Inputs'!B33="","",'Debt Inputs'!J33&" - "&'Debt Inputs'!B33) | B45: =IF('Debt Inputs'!F33="","",'Debt Inputs'!F33) | C45: =IF('Debt Inputs'!E33="","",'Debt Inputs'!E33) | D45: =IF('Debt Inputs'!J33="","",'Debt Inputs'!J33) | H45: =IF(COUNT('Payoff Plan'!$A$2706:$A$2805)=0,"",'Payoff Plan'!$A$2706) | I45: =SUM('Payoff Plan'!$K$2706:$K$2805) | M45: =""
A46: =IF('Debt Inputs'!B34="","",'Debt Inputs'!J34&" - "&'Debt Inputs'!B34) | B46: =IF('Debt Inputs'!F34="","",'Debt Inputs'!F34) | C46: =IF('Debt Inputs'!E34="","",'Debt Inputs'!E34) | D46: =IF('Debt Inputs'!J34="","",'Debt Inputs'!J34) | H46: =IF(COUNT('Payoff Plan'!$A$2806:$A$2905)=0,"",'Payoff Plan'!$A$2806) | I46: =SUM('Payoff Plan'!$K$2806:$K$2905) | M46: =""
A47: =IF('Debt Inputs'!B35="","",'Debt Inputs'!J35&" - "&'Debt Inputs'!B35) | B47: =IF('Debt Inputs'!F35="","",'Debt Inputs'!F35) | C47: =IF('Debt Inputs'!E35="","",'Debt Inputs'!E35) | D47: =IF('Debt Inputs'!J35="","",'Debt Inputs'!J35) | H47: =IF(COUNT('Payoff Plan'!$A$2906:$A$3005)=0,"",'Payoff Plan'!$A$2906) | I47: =SUM('Payoff Plan'!$K$2906:$K$3005) | M47: =""
A48: =IF('Debt Inputs'!B36="","",'Debt Inputs'!J36&" - "&'Debt Inputs'!B36) | B48: =IF('Debt Inputs'!F36="","",'Debt Inputs'!F36) | C48: =IF('Debt Inputs'!E36="","",'Debt Inputs'!E36) | D48: =IF('Debt Inputs'!J36="","",'Debt Inputs'!J36) | H48: =IF(COUNT('Payoff Plan'!$A$3006:$A$3105)=0,"",'Payoff Plan'!$A$3006) | I48: =SUM('Payoff Plan'!$K$3006:$K$3105) | M48: =""
A49: =IF('Debt Inputs'!B37="","",'Debt Inputs'!J37&" - "&'Debt Inputs'!B37) | B49: =IF('Debt Inputs'!F37="","",'Debt Inputs'!F37) | C49: =IF('Debt Inputs'!E37="","",'Debt Inputs'!E37) | D49: =IF('Debt Inputs'!J37="","",'Debt Inputs'!J37) | H49: =IF(COUNT('Payoff Plan'!$A$3106:$A$3205)=0,"",'Payoff Plan'!$A$3106) | I49: =SUM('Payoff Plan'!$K$3106:$K$3205) | M49: =""
A50: =IF('Debt Inputs'!B38="","",'Debt Inputs'!J38&" - "&'Debt Inputs'!B38) | B50: =IF('Debt Inputs'!F38="","",'Debt Inputs'!F38) | C50: =IF('Debt Inputs'!E38="","",'Debt Inputs'!E38) | D50: =IF('Debt Inputs'!J38="","",'Debt Inputs'!J38) | H50: =IF(COUNT('Payoff Plan'!$A$3206:$A$3305)=0,"",'Payoff Plan'!$A$3206) | I50: =SUM('Payoff Plan'!$K$3206:$K$3305) | M50: =""
A51: =IF('Debt Inputs'!B39="","",'Debt Inputs'!J39&" - "&'Debt Inputs'!B39) | B51: =IF('Debt Inputs'!F39="","",'Debt Inputs'!F39) | C51: =IF('Debt Inputs'!E39="","",'Debt Inputs'!E39) | D51: =IF('Debt Inputs'!J39="","",'Debt Inputs'!J39) | H51: =IF(COUNT('Payoff Plan'!$A$3306:$A$3405)=0,"",'Payoff Plan'!$A$3306) | I51: =SUM('Payoff Plan'!$K$3306:$K$3405) | M51: =""
A52: =IF('Debt Inputs'!B40="","",'Debt Inputs'!J40&" - "&'Debt Inputs'!B40) | B52: =IF('Debt Inputs'!F40="","",'Debt Inputs'!F40) | C52: =IF('Debt Inputs'!E40="","",'Debt Inputs'!E40) | D52: =IF('Debt Inputs'!J40="","",'Debt Inputs'!J40) | H52: =IF(COUNT('Payoff Plan'!$A$3406:$A$3505)=0,"",'Payoff Plan'!$A$3406) | I52: =SUM('Payoff Plan'!$K$3406:$K$3505) | M52: =""
...

Sheet Instructions
A1: Debt Avalanche Payoff Calculator - Instructions
A3: Section | B3: Guidance
A4: Debt Inputs | B4: Enter or update only the pale-yellow cells. Review Debt ID, creditor, debt type, account reference, APR, current balance, minimum payment, and notes.
A5: Monthly Budget | B5: Set the Monthly Debt Budget and Plan Start Date at the top of Debt Inputs. Extra Payment Available is calculated as the budget less all minimum payments.
A6: Avalanche Method | B6: The avalanche method pays required minimums on all active debts and directs available extra money to the active debt with the highest APR.
A7: Payoff Plan | B7: The Payoff Plan contains 60 monthly periods and supports up to 100 debts. It uses VLOOKUP formulas to retrieve debt details and calculates interest using APR divided by 12.
A8: Dashboard | B8: Use the Dashboard to review starting debt, payment capacity, weighted average APR, estimated interest, estimated debt-free date, and balance trends.
A9: Confirm Terms | B9: Confirm APRs, minimum payments, balances, due dates, and lender terms before making payment decisions. Update the calculator whenever lender terms change.
A10: Estimate Notice | B10: This calculator is an estimate. It does not account for fees, new charges, promotional APRs, skipped payments, payment timing, or lender-specific interest rules.
A11: Format | B11: All currency is shown in U.S. dollars. Dates use U.S. MM/DD/YYYY formatting.
A12: Professional Advice | B12: Consult a qualified financial professional for personalized debt, credit, tax, or legal advice.
A14: Column Reference | B14: Debt Inputs formulas calculate total planned payment, avalanche priority, estimated monthly interest, and status. Payoff Plan formulas calculate balances, interest, payments, targets, cumulative interest, and payoff dates.
